BEGIN:VCALENDAR
VERSION:2.0
PRODID:-//Immigrant Services Association of Nova Scotia - ECPv6.15.17.1//NONSGML v1.0//EN
CALSCALE:GREGORIAN
METHOD:PUBLISH
X-WR-CALNAME:Immigrant Services Association of Nova Scotia
X-ORIGINAL-URL:https://isans.ca
X-WR-CALDESC:Events for Immigrant Services Association of Nova Scotia
REFRESH-INTERVAL;VALUE=DURATION:PT1H
X-Robots-Tag:noindex
X-PUBLISHED-TTL:PT1H
BEGIN:VTIMEZONE
TZID:America/Halifax
BEGIN:DAYLIGHT
TZOFFSETFROM:-0400
TZOFFSETTO:-0300
TZNAME:ADT
DTSTART:20240310T060000
END:DAYLIGHT
BEGIN:STANDARD
TZOFFSETFROM:-0300
TZOFFSETTO:-0400
TZNAME:AST
DTSTART:20241103T050000
END:STANDARD
BEGIN:DAYLIGHT
TZOFFSETFROM:-0400
TZOFFSETTO:-0300
TZNAME:ADT
DTSTART:20250309T060000
END:DAYLIGHT
BEGIN:STANDARD
TZOFFSETFROM:-0300
TZOFFSETTO:-0400
TZNAME:AST
DTSTART:20251102T050000
END:STANDARD
BEGIN:DAYLIGHT
TZOFFSETFROM:-0400
TZOFFSETTO:-0300
TZNAME:ADT
DTSTART:20260308T060000
END:DAYLIGHT
BEGIN:STANDARD
TZOFFSETFROM:-0300
TZOFFSETTO:-0400
TZNAME:AST
DTSTART:20261101T050000
END:STANDARD
BEGIN:DAYLIGHT
TZOFFSETFROM:-0400
TZOFFSETTO:-0300
TZNAME:ADT
DTSTART:20270314T060000
END:DAYLIGHT
BEGIN:STANDARD
TZOFFSETFROM:-0300
TZOFFSETTO:-0400
TZNAME:AST
DTSTART:20271107T050000
END:STANDARD
END:VTIMEZONE
BEGIN:VEVENT
DTSTART;TZID=America/Halifax:20260102T131500
DTEND;TZID=America/Halifax:20260102T151500
DTSTAMP:20260419T182910
CREATED:20250903T154250Z
LAST-MODIFIED:20250903T154250Z
UID:66098-1767359700-1767366900@isans.ca
SUMMARY:Online Computer Training
DESCRIPTION:Would you like to improve your computer skills? You can register for the following computer courses: \n\nGoogle Docs\nDec 4-Dec 11\, 6 classes\, 2 hours\nEveryday\, 10 AM –12 PM \nGoogle Slides\nDec 12-Dec 17\, 4 classes\, 2 hours\nEveryday\, 10 AM–12 PM \nAI Course\nDec 18-Dec 19\, 2 classes\, 2 hours\nThursday\, Friday\, 1:15 PM–3:15 PM \nGoogle Sheets\nDec 22-Jan 2\, 6 classes\, 2 hours\nEveryday\, 1:15 PM –3:15 PM \n\nFor more information\, please contact:\nBasam Tahoor | 902-406-4089 | computerskills@isans.ca
URL:https://isans.ca/event/online-computer-training-2/2026-01-02/
LOCATION:Online
CATEGORIES:Employment
END:VEVENT
BEGIN:VEVENT
DTSTART;TZID=America/Halifax:20251231T131500
DTEND;TZID=America/Halifax:20251231T151500
DTSTAMP:20260419T182910
CREATED:20250903T154250Z
LAST-MODIFIED:20250903T154250Z
UID:66097-1767186900-1767194100@isans.ca
SUMMARY:Online Computer Training
DESCRIPTION:Would you like to improve your computer skills? You can register for the following computer courses: \n\nGoogle Docs\nDec 4-Dec 11\, 6 classes\, 2 hours\nEveryday\, 10 AM –12 PM \nGoogle Slides\nDec 12-Dec 17\, 4 classes\, 2 hours\nEveryday\, 10 AM–12 PM \nAI Course\nDec 18-Dec 19\, 2 classes\, 2 hours\nThursday\, Friday\, 1:15 PM–3:15 PM \nGoogle Sheets\nDec 22-Jan 2\, 6 classes\, 2 hours\nEveryday\, 1:15 PM –3:15 PM \n\nFor more information\, please contact:\nBasam Tahoor | 902-406-4089 | computerskills@isans.ca
URL:https://isans.ca/event/online-computer-training-2/2025-12-31/
LOCATION:Online
CATEGORIES:Employment
END:VEVENT
BEGIN:VEVENT
DTSTART;TZID=America/Halifax:20251230T131500
DTEND;TZID=America/Halifax:20251230T151500
DTSTAMP:20260419T182910
CREATED:20250903T154250Z
LAST-MODIFIED:20250903T154250Z
UID:66096-1767100500-1767107700@isans.ca
SUMMARY:Online Computer Training
DESCRIPTION:Would you like to improve your computer skills? You can register for the following computer courses: \n\nGoogle Docs\nDec 4-Dec 11\, 6 classes\, 2 hours\nEveryday\, 10 AM –12 PM \nGoogle Slides\nDec 12-Dec 17\, 4 classes\, 2 hours\nEveryday\, 10 AM–12 PM \nAI Course\nDec 18-Dec 19\, 2 classes\, 2 hours\nThursday\, Friday\, 1:15 PM–3:15 PM \nGoogle Sheets\nDec 22-Jan 2\, 6 classes\, 2 hours\nEveryday\, 1:15 PM –3:15 PM \n\nFor more information\, please contact:\nBasam Tahoor | 902-406-4089 | computerskills@isans.ca
URL:https://isans.ca/event/online-computer-training-2/2025-12-30/
LOCATION:Online
CATEGORIES:Employment
END:VEVENT
BEGIN:VEVENT
DTSTART;TZID=America/Halifax:20251229T131500
DTEND;TZID=America/Halifax:20251229T151500
DTSTAMP:20260419T182910
CREATED:20250903T154250Z
LAST-MODIFIED:20250903T154250Z
UID:66095-1767014100-1767021300@isans.ca
SUMMARY:Online Computer Training
DESCRIPTION:Would you like to improve your computer skills? You can register for the following computer courses: \n\nGoogle Docs\nDec 4-Dec 11\, 6 classes\, 2 hours\nEveryday\, 10 AM –12 PM \nGoogle Slides\nDec 12-Dec 17\, 4 classes\, 2 hours\nEveryday\, 10 AM–12 PM \nAI Course\nDec 18-Dec 19\, 2 classes\, 2 hours\nThursday\, Friday\, 1:15 PM–3:15 PM \nGoogle Sheets\nDec 22-Jan 2\, 6 classes\, 2 hours\nEveryday\, 1:15 PM –3:15 PM \n\nFor more information\, please contact:\nBasam Tahoor | 902-406-4089 | computerskills@isans.ca
URL:https://isans.ca/event/online-computer-training-2/2025-12-29/
LOCATION:Online
CATEGORIES:Employment
END:VEVENT
BEGIN:VEVENT
DTSTART;TZID=America/Halifax:20251223T131500
DTEND;TZID=America/Halifax:20251223T151500
DTSTAMP:20260419T182910
CREATED:20250903T154250Z
LAST-MODIFIED:20250903T154250Z
UID:66094-1766495700-1766502900@isans.ca
SUMMARY:Online Computer Training
DESCRIPTION:Would you like to improve your computer skills? You can register for the following computer courses: \n\nGoogle Docs\nDec 4-Dec 11\, 6 classes\, 2 hours\nEveryday\, 10 AM –12 PM \nGoogle Slides\nDec 12-Dec 17\, 4 classes\, 2 hours\nEveryday\, 10 AM–12 PM \nAI Course\nDec 18-Dec 19\, 2 classes\, 2 hours\nThursday\, Friday\, 1:15 PM–3:15 PM \nGoogle Sheets\nDec 22-Jan 2\, 6 classes\, 2 hours\nEveryday\, 1:15 PM –3:15 PM \n\nFor more information\, please contact:\nBasam Tahoor | 902-406-4089 | computerskills@isans.ca
URL:https://isans.ca/event/online-computer-training-2/2025-12-23/
LOCATION:Online
CATEGORIES:Employment
END:VEVENT
BEGIN:VEVENT
DTSTART;TZID=America/Halifax:20251222T131500
DTEND;TZID=America/Halifax:20251222T151500
DTSTAMP:20260419T182910
CREATED:20250903T154250Z
LAST-MODIFIED:20250903T154250Z
UID:66093-1766409300-1766416500@isans.ca
SUMMARY:Online Computer Training
DESCRIPTION:Would you like to improve your computer skills? You can register for the following computer courses: \n\nGoogle Docs\nDec 4-Dec 11\, 6 classes\, 2 hours\nEveryday\, 10 AM –12 PM \nGoogle Slides\nDec 12-Dec 17\, 4 classes\, 2 hours\nEveryday\, 10 AM–12 PM \nAI Course\nDec 18-Dec 19\, 2 classes\, 2 hours\nThursday\, Friday\, 1:15 PM–3:15 PM \nGoogle Sheets\nDec 22-Jan 2\, 6 classes\, 2 hours\nEveryday\, 1:15 PM –3:15 PM \n\nFor more information\, please contact:\nBasam Tahoor | 902-406-4089 | computerskills@isans.ca
URL:https://isans.ca/event/online-computer-training-2/2025-12-22/
LOCATION:Online
CATEGORIES:Employment
END:VEVENT
BEGIN:VEVENT
DTSTART;TZID=America/Halifax:20251219T131500
DTEND;TZID=America/Halifax:20251219T151500
DTSTAMP:20260419T182910
CREATED:20250903T154250Z
LAST-MODIFIED:20250903T154250Z
UID:66092-1766150100-1766157300@isans.ca
SUMMARY:Online Computer Training
DESCRIPTION:Would you like to improve your computer skills? You can register for the following computer courses: \n\nGoogle Docs\nDec 4-Dec 11\, 6 classes\, 2 hours\nEveryday\, 10 AM –12 PM \nGoogle Slides\nDec 12-Dec 17\, 4 classes\, 2 hours\nEveryday\, 10 AM–12 PM \nAI Course\nDec 18-Dec 19\, 2 classes\, 2 hours\nThursday\, Friday\, 1:15 PM–3:15 PM \nGoogle Sheets\nDec 22-Jan 2\, 6 classes\, 2 hours\nEveryday\, 1:15 PM –3:15 PM \n\nFor more information\, please contact:\nBasam Tahoor | 902-406-4089 | computerskills@isans.ca
URL:https://isans.ca/event/online-computer-training-2/2025-12-19/
LOCATION:Online
CATEGORIES:Employment
END:VEVENT
BEGIN:VEVENT
DTSTART;TZID=America/Halifax:20251218T131500
DTEND;TZID=America/Halifax:20251218T151500
DTSTAMP:20260419T182910
CREATED:20250903T154250Z
LAST-MODIFIED:20250903T154250Z
UID:66091-1766063700-1766070900@isans.ca
SUMMARY:Online Computer Training
DESCRIPTION:Would you like to improve your computer skills? You can register for the following computer courses: \n\nGoogle Docs\nDec 4-Dec 11\, 6 classes\, 2 hours\nEveryday\, 10 AM –12 PM \nGoogle Slides\nDec 12-Dec 17\, 4 classes\, 2 hours\nEveryday\, 10 AM–12 PM \nAI Course\nDec 18-Dec 19\, 2 classes\, 2 hours\nThursday\, Friday\, 1:15 PM–3:15 PM \nGoogle Sheets\nDec 22-Jan 2\, 6 classes\, 2 hours\nEveryday\, 1:15 PM –3:15 PM \n\nFor more information\, please contact:\nBasam Tahoor | 902-406-4089 | computerskills@isans.ca
URL:https://isans.ca/event/online-computer-training-2/2025-12-18/
LOCATION:Online
CATEGORIES:Employment
END:VEVENT
BEGIN:VEVENT
DTSTART;TZID=America/Halifax:20251217T100000
DTEND;TZID=America/Halifax:20251217T120000
DTSTAMP:20260419T182910
CREATED:20250903T154250Z
LAST-MODIFIED:20251008T214707Z
UID:65996-1765965600-1765972800@isans.ca
SUMMARY:Online Computer Training
DESCRIPTION:Would you like to improve your computer skills? You can register for the following computer courses: \n\nGoogle Docs\nDec 4-Dec 11\, 6 classes\, 2 hours\nEveryday\, 10 AM –12 PM \nGoogle Slides\nDec 12-Dec 17\, 4 classes\, 2 hours\nEveryday\, 10 AM–12 PM \nAI Course\nDec 18-Dec 19\, 2 classes\, 2 hours\nThursday\, Friday\, 1:15 PM–3:15 PM \nGoogle Sheets\nDec 22-Jan 2\, 6 classes\, 2 hours\nEveryday\, 1:15 PM –3:15 PM \n\nFor more information\, please contact:\nBasam Tahoor | 902-406-4089 | computerskills@isans.ca
URL:https://isans.ca/event/online-computer-training-2/2025-12-17/
LOCATION:Online
CATEGORIES:Employment
END:VEVENT
BEGIN:VEVENT
DTSTART;TZID=America/Halifax:20251216T100000
DTEND;TZID=America/Halifax:20251216T120000
DTSTAMP:20260419T182910
CREATED:20250903T154250Z
LAST-MODIFIED:20251008T214706Z
UID:65995-1765879200-1765886400@isans.ca
SUMMARY:Online Computer Training
DESCRIPTION:Would you like to improve your computer skills? You can register for the following computer courses: \n\nGoogle Docs\nDec 4-Dec 11\, 6 classes\, 2 hours\nEveryday\, 10 AM –12 PM \nGoogle Slides\nDec 12-Dec 17\, 4 classes\, 2 hours\nEveryday\, 10 AM–12 PM \nAI Course\nDec 18-Dec 19\, 2 classes\, 2 hours\nThursday\, Friday\, 1:15 PM–3:15 PM \nGoogle Sheets\nDec 22-Jan 2\, 6 classes\, 2 hours\nEveryday\, 1:15 PM –3:15 PM \n\nFor more information\, please contact:\nBasam Tahoor | 902-406-4089 | computerskills@isans.ca
URL:https://isans.ca/event/online-computer-training-2/2025-12-16/
LOCATION:Online
CATEGORIES:Employment
END:VEVENT
BEGIN:VEVENT
DTSTART;TZID=America/Halifax:20251215T100000
DTEND;TZID=America/Halifax:20251215T120000
DTSTAMP:20260419T182910
CREATED:20250903T154250Z
LAST-MODIFIED:20251008T214705Z
UID:65994-1765792800-1765800000@isans.ca
SUMMARY:Online Computer Training
DESCRIPTION:Would you like to improve your computer skills? You can register for the following computer courses: \n\nGoogle Docs\nDec 4-Dec 11\, 6 classes\, 2 hours\nEveryday\, 10 AM –12 PM \nGoogle Slides\nDec 12-Dec 17\, 4 classes\, 2 hours\nEveryday\, 10 AM–12 PM \nAI Course\nDec 18-Dec 19\, 2 classes\, 2 hours\nThursday\, Friday\, 1:15 PM–3:15 PM \nGoogle Sheets\nDec 22-Jan 2\, 6 classes\, 2 hours\nEveryday\, 1:15 PM –3:15 PM \n\nFor more information\, please contact:\nBasam Tahoor | 902-406-4089 | computerskills@isans.ca
URL:https://isans.ca/event/online-computer-training-2/2025-12-15/
LOCATION:Online
CATEGORIES:Employment
END:VEVENT
BEGIN:VEVENT
DTSTART;TZID=America/Halifax:20251212T100000
DTEND;TZID=America/Halifax:20251212T120000
DTSTAMP:20260419T182910
CREATED:20250903T154250Z
LAST-MODIFIED:20251008T214704Z
UID:66085-1765533600-1765540800@isans.ca
SUMMARY:Online Computer Training
DESCRIPTION:Would you like to improve your computer skills? You can register for the following computer courses: \n\nGoogle Docs\nDec 4-Dec 11\, 6 classes\, 2 hours\nEveryday\, 10 AM –12 PM \nGoogle Slides\nDec 12-Dec 17\, 4 classes\, 2 hours\nEveryday\, 10 AM–12 PM \nAI Course\nDec 18-Dec 19\, 2 classes\, 2 hours\nThursday\, Friday\, 1:15 PM–3:15 PM \nGoogle Sheets\nDec 22-Jan 2\, 6 classes\, 2 hours\nEveryday\, 1:15 PM –3:15 PM \n\nFor more information\, please contact:\nBasam Tahoor | 902-406-4089 | computerskills@isans.ca
URL:https://isans.ca/event/online-computer-training-2/2025-12-12/
LOCATION:Online
CATEGORIES:Employment
END:VEVENT
BEGIN:VEVENT
DTSTART;TZID=America/Halifax:20251211T100000
DTEND;TZID=America/Halifax:20251211T120000
DTSTAMP:20260419T182910
CREATED:20250903T154250Z
LAST-MODIFIED:20251008T214704Z
UID:65992-1765447200-1765454400@isans.ca
SUMMARY:Online Computer Training
DESCRIPTION:Would you like to improve your computer skills? You can register for the following computer courses: \n\nGoogle Docs\nDec 4-Dec 11\, 6 classes\, 2 hours\nEveryday\, 10 AM –12 PM \nGoogle Slides\nDec 12-Dec 17\, 4 classes\, 2 hours\nEveryday\, 10 AM–12 PM \nAI Course\nDec 18-Dec 19\, 2 classes\, 2 hours\nThursday\, Friday\, 1:15 PM–3:15 PM \nGoogle Sheets\nDec 22-Jan 2\, 6 classes\, 2 hours\nEveryday\, 1:15 PM –3:15 PM \n\nFor more information\, please contact:\nBasam Tahoor | 902-406-4089 | computerskills@isans.ca
URL:https://isans.ca/event/online-computer-training-2/2025-12-11/
LOCATION:Online
CATEGORIES:Employment
END:VEVENT
BEGIN:VEVENT
DTSTART;TZID=America/Halifax:20251210T100000
DTEND;TZID=America/Halifax:20251210T120000
DTSTAMP:20260419T182910
CREATED:20250903T154250Z
LAST-MODIFIED:20251008T214703Z
UID:65991-1765360800-1765368000@isans.ca
SUMMARY:Online Computer Training
DESCRIPTION:Would you like to improve your computer skills? You can register for the following computer courses: \n\nGoogle Docs\nDec 4-Dec 11\, 6 classes\, 2 hours\nEveryday\, 10 AM –12 PM \nGoogle Slides\nDec 12-Dec 17\, 4 classes\, 2 hours\nEveryday\, 10 AM–12 PM \nAI Course\nDec 18-Dec 19\, 2 classes\, 2 hours\nThursday\, Friday\, 1:15 PM–3:15 PM \nGoogle Sheets\nDec 22-Jan 2\, 6 classes\, 2 hours\nEveryday\, 1:15 PM –3:15 PM \n\nFor more information\, please contact:\nBasam Tahoor | 902-406-4089 | computerskills@isans.ca
URL:https://isans.ca/event/online-computer-training-2/2025-12-10/
LOCATION:Online
CATEGORIES:Employment
END:VEVENT
BEGIN:VEVENT
DTSTART;TZID=America/Halifax:20251209T100000
DTEND;TZID=America/Halifax:20251209T120000
DTSTAMP:20260419T182910
CREATED:20250903T154250Z
LAST-MODIFIED:20251008T214702Z
UID:65990-1765274400-1765281600@isans.ca
SUMMARY:Online Computer Training
DESCRIPTION:Would you like to improve your computer skills? You can register for the following computer courses: \n\nGoogle Docs\nDec 4-Dec 11\, 6 classes\, 2 hours\nEveryday\, 10 AM –12 PM \nGoogle Slides\nDec 12-Dec 17\, 4 classes\, 2 hours\nEveryday\, 10 AM–12 PM \nAI Course\nDec 18-Dec 19\, 2 classes\, 2 hours\nThursday\, Friday\, 1:15 PM–3:15 PM \nGoogle Sheets\nDec 22-Jan 2\, 6 classes\, 2 hours\nEveryday\, 1:15 PM –3:15 PM \n\nFor more information\, please contact:\nBasam Tahoor | 902-406-4089 | computerskills@isans.ca
URL:https://isans.ca/event/online-computer-training-2/2025-12-09/
LOCATION:Online
CATEGORIES:Employment
END:VEVENT
BEGIN:VEVENT
DTSTART;TZID=America/Halifax:20251208T100000
DTEND;TZID=America/Halifax:20251208T120000
DTSTAMP:20260419T182910
CREATED:20250903T154250Z
LAST-MODIFIED:20251008T214656Z
UID:65989-1765188000-1765195200@isans.ca
SUMMARY:Online Computer Training
DESCRIPTION:Would you like to improve your computer skills? You can register for the following computer courses: \n\nGoogle Docs\nDec 4-Dec 11\, 6 classes\, 2 hours\nEveryday\, 10 AM –12 PM \nGoogle Slides\nDec 12-Dec 17\, 4 classes\, 2 hours\nEveryday\, 10 AM–12 PM \nAI Course\nDec 18-Dec 19\, 2 classes\, 2 hours\nThursday\, Friday\, 1:15 PM–3:15 PM \nGoogle Sheets\nDec 22-Jan 2\, 6 classes\, 2 hours\nEveryday\, 1:15 PM –3:15 PM \n\nFor more information\, please contact:\nBasam Tahoor | 902-406-4089 | computerskills@isans.ca
URL:https://isans.ca/event/online-computer-training-2/2025-12-08/
LOCATION:Online
CATEGORIES:Employment
END:VEVENT
BEGIN:VEVENT
DTSTART;TZID=America/Halifax:20251205T100000
DTEND;TZID=America/Halifax:20251205T120000
DTSTAMP:20260419T182910
CREATED:20250903T154250Z
LAST-MODIFIED:20251008T214656Z
UID:66086-1764928800-1764936000@isans.ca
SUMMARY:Online Computer Training
DESCRIPTION:Would you like to improve your computer skills? You can register for the following computer courses: \n\nGoogle Docs\nDec 4-Dec 11\, 6 classes\, 2 hours\nEveryday\, 10 AM –12 PM \nGoogle Slides\nDec 12-Dec 17\, 4 classes\, 2 hours\nEveryday\, 10 AM–12 PM \nAI Course\nDec 18-Dec 19\, 2 classes\, 2 hours\nThursday\, Friday\, 1:15 PM–3:15 PM \nGoogle Sheets\nDec 22-Jan 2\, 6 classes\, 2 hours\nEveryday\, 1:15 PM –3:15 PM \n\nFor more information\, please contact:\nBasam Tahoor | 902-406-4089 | computerskills@isans.ca
URL:https://isans.ca/event/online-computer-training-2/2025-12-05/
LOCATION:Online
CATEGORIES:Employment
END:VEVENT
BEGIN:VEVENT
DTSTART;TZID=America/Halifax:20251204T100000
DTEND;TZID=America/Halifax:20251204T120000
DTSTAMP:20260419T182910
CREATED:20250903T154250Z
LAST-MODIFIED:20251008T214649Z
UID:65236-1764842400-1764849600@isans.ca
SUMMARY:Online Computer Training
DESCRIPTION:Would you like to improve your computer skills? You can register for the following computer courses: \n\nGoogle Docs\nDec 4-Dec 11\, 6 classes\, 2 hours\nEveryday\, 10 AM –12 PM \nGoogle Slides\nDec 12-Dec 17\, 4 classes\, 2 hours\nEveryday\, 10 AM–12 PM \nAI Course\nDec 18-Dec 19\, 2 classes\, 2 hours\nThursday\, Friday\, 1:15 PM–3:15 PM \nGoogle Sheets\nDec 22-Jan 2\, 6 classes\, 2 hours\nEveryday\, 1:15 PM –3:15 PM \n\nFor more information\, please contact:\nBasam Tahoor | 902-406-4089 | computerskills@isans.ca
URL:https://isans.ca/event/online-computer-training-2/2025-12-04/
LOCATION:Online
CATEGORIES:Employment
END:VEVENT
END:VCALENDAR