BEGIN:VCALENDAR
VERSION:2.0
PRODID:-//Immigrant Services Association of Nova Scotia - ECPv6.15.17.1//NONSGML v1.0//EN
CALSCALE:GREGORIAN
METHOD:PUBLISH
X-WR-CALNAME:Immigrant Services Association of Nova Scotia
X-ORIGINAL-URL:https://isans.ca
X-WR-CALDESC:Events for Immigrant Services Association of Nova Scotia
REFRESH-INTERVAL;VALUE=DURATION:PT1H
X-Robots-Tag:noindex
X-PUBLISHED-TTL:PT1H
BEGIN:VTIMEZONE
TZID:America/Halifax
BEGIN:DAYLIGHT
TZOFFSETFROM:-0400
TZOFFSETTO:-0300
TZNAME:ADT
DTSTART:20250309T060000
END:DAYLIGHT
BEGIN:STANDARD
TZOFFSETFROM:-0300
TZOFFSETTO:-0400
TZNAME:AST
DTSTART:20251102T050000
END:STANDARD
BEGIN:DAYLIGHT
TZOFFSETFROM:-0400
TZOFFSETTO:-0300
TZNAME:ADT
DTSTART:20260308T060000
END:DAYLIGHT
BEGIN:STANDARD
TZOFFSETFROM:-0300
TZOFFSETTO:-0400
TZNAME:AST
DTSTART:20261101T050000
END:STANDARD
BEGIN:DAYLIGHT
TZOFFSETFROM:-0400
TZOFFSETTO:-0300
TZNAME:ADT
DTSTART:20270314T060000
END:DAYLIGHT
BEGIN:STANDARD
TZOFFSETFROM:-0300
TZOFFSETTO:-0400
TZNAME:AST
DTSTART:20271107T050000
END:STANDARD
END:VTIMEZONE
BEGIN:VEVENT
DTSTART;TZID=America/Halifax:20260205T173000
DTEND;TZID=America/Halifax:20260205T193000
DTSTAMP:20260423T090140
CREATED:20251215T164940Z
LAST-MODIFIED:20251215T170551Z
UID:67228-1770312600-1770319800@isans.ca
SUMMARY:Nova Scotia Business Culture
DESCRIPTION:Understanding business culture is an important part of business success. Do you want to strengthen your knowledge of Canadian culture? Do you want to become more familiar with Nova Scotia business customs? \nJoin us for this workshop to gain an understanding of Canadian Business Culture and doing business here in Nova Scotia. \nTo attend this session\, you must: \n\nBe an ISANS business client\nHave a Canadian Language Benchmark (CLB) level of 5+\nBe able to attend in person\n\nRegister using the link: Business Training Registration- Winter 2026 – Fill out form \nIf you have any question email Suhel Shaikh at  business@isans.ca \n 
URL:https://isans.ca/event/nova-scotia-business-culture/
LOCATION:ISANS Mumford\, 6960 Mumford Road\, Suite 2120\, Halifax\, B3L4P1
CATEGORIES:Business Training In-Person
END:VEVENT
BEGIN:VEVENT
DTSTART;TZID=America/Halifax:20260212T173000
DTEND;TZID=America/Halifax:20260212T190000
DTSTAMP:20260423T090140
CREATED:20260129T160338Z
LAST-MODIFIED:20260129T161452Z
UID:68436-1770917400-1770922800@isans.ca
SUMMARY:Tax Essentials for Small and Medium Business Growth
DESCRIPTION:This session will provide small and medium-sized business owners with a clear understanding of key taxation requirements in Canada. Our guest speaker will cover essential topics such as business tax obligations\, GST/HST\, payroll considerations\, and common compliance pitfalls. Attendees will learn how to structure their finances effectively and avoid costly mistakes. The session will also highlight practical tips to stay tax-ready throughout the year. This is a valuable opportunity for entrepreneurs who have already started their business or are preparing to scale. Come prepared with questions and leave with clarity and confidence in managing your business taxes. \nTo attend this session\, you must: \n\nBe an ISANS business client\nHave a Canadian Language Benchmark (CLB) level of 5+\nBe able to attend in person\n\nRegister using the link: Business Training Registration- Winter 2026 – Fill out form \nIf you have any question email Suhel Shaikh at  business@isans.ca
URL:https://isans.ca/event/tax-essentials-for-small-and-medium-business-growth/
LOCATION:ISANS Mumford\, 6960 Mumford Road\, Suite 2120\, Halifax\, B3L4P1
CATEGORIES:Business Training In-Person
END:VEVENT
BEGIN:VEVENT
DTSTART;TZID=America/Halifax:20260219T173000
DTEND;TZID=America/Halifax:20260219T193000
DTSTAMP:20260423T090140
CREATED:20251215T165601Z
LAST-MODIFIED:20251215T165601Z
UID:67237-1771522200-1771529400@isans.ca
SUMMARY:Introduction to Entrepreneurship- I
DESCRIPTION:Thinking about starting your own business? Join this free two-part workshop for aspiring entrepreneurs. Part\, one covers the characteristics\, challenges\, and benefits of entrepreneurship\, steps to start a business\, and how to evaluate your idea. Gain the knowledge and skills needed to build a successful business in Nova Scotia. \nTo attend this session\, you must: \n\nBe an ISANS business client\nHave a Canadian Language Benchmark (CLB) level of 5+\nBe able to attend in person\n\nRegister using the link: Business Training Registration- Winter 2026 – Fill out form \nIf you have any question email Suhel Shaikh at  business@isans.ca
URL:https://isans.ca/event/introduction-to-entrepreneurship-i/
LOCATION:ISANS Mumford\, 6960 Mumford Road\, Suite 2120\, Halifax\, B3L4P1
CATEGORIES:Business Training In-Person
END:VEVENT
BEGIN:VEVENT
DTSTART;TZID=America/Halifax:20260225T173000
DTEND;TZID=America/Halifax:20260225T193000
DTSTAMP:20260423T090140
CREATED:20251215T165756Z
LAST-MODIFIED:20251215T165756Z
UID:67240-1772040600-1772047800@isans.ca
SUMMARY:Waste Management for Businesses
DESCRIPTION:Running a business in HRM and need guidance on waste management? Whether you’re starting out or looking to improve\, this workshop will help you understand your responsibilities for collecting\, sorting\, and disposing of waste. Learn about available resources and best practices with Cyndi Fraser\, Waste Resource Education Officer at Solid Waste Resources (SWR). \nTo attend this session\, you must: \n\nBe an ISANS business client\nHave a Canadian Language Benchmark (CLB) level of 5+\nBe able to attend in person\n\nRegister using the link: Business Training Registration- Winter 2026 – Fill out form \nIf you have any question email Suhel Shaikh at  business@isans.ca
URL:https://isans.ca/event/waste-management-for-businesses/
LOCATION:ISANS Mumford\, 6960 Mumford Road\, Suite 2120\, Halifax\, B3L4P1
CATEGORIES:Business Training In-Person
END:VEVENT
BEGIN:VEVENT
DTSTART;TZID=America/Halifax:20260226T173000
DTEND;TZID=America/Halifax:20260226T193000
DTSTAMP:20260423T090140
CREATED:20251215T170025Z
LAST-MODIFIED:20251215T170025Z
UID:67242-1772127000-1772134200@isans.ca
SUMMARY:Introduction to Entrepreneurship- II
DESCRIPTION:Thinking about starting a business? Join this free two-part workshop for aspiring entrepreneurs. Part two covers business registration\, legal structures\, licenses and permits\, business planning\, finances\, taxes\, and available supports at ISANS—everything you need to launch and grow a business in Nova Scotia. \nTo attend this session\, you must: \n\nBe an ISANS business client\nHave a Canadian Language Benchmark (CLB) level of 5+\nBe able to attend in person\n\nRegister using the link: Business Training Registration- Winter 2026 – Fill out form \nIf you have any question email Suhel Shaikh at  business@isans.ca
URL:https://isans.ca/event/introduction-to-entrepreneurship-ii/
LOCATION:ISANS Mumford\, 6960 Mumford Road\, Suite 2120\, Halifax\, B3L4P1
CATEGORIES:Business Training In-Person
END:VEVENT
END:VCALENDAR