BEGIN:VCALENDAR
VERSION:2.0
PRODID:-//Immigrant Services Association of Nova Scotia - ECPv6.15.17.1//NONSGML v1.0//EN
CALSCALE:GREGORIAN
METHOD:PUBLISH
X-WR-CALNAME:Immigrant Services Association of Nova Scotia
X-ORIGINAL-URL:https://isans.ca
X-WR-CALDESC:Events for Immigrant Services Association of Nova Scotia
REFRESH-INTERVAL;VALUE=DURATION:PT1H
X-Robots-Tag:noindex
X-PUBLISHED-TTL:PT1H
BEGIN:VTIMEZONE
TZID:America/Halifax
BEGIN:DAYLIGHT
TZOFFSETFROM:-0400
TZOFFSETTO:-0300
TZNAME:ADT
DTSTART:20250309T060000
END:DAYLIGHT
BEGIN:STANDARD
TZOFFSETFROM:-0300
TZOFFSETTO:-0400
TZNAME:AST
DTSTART:20251102T050000
END:STANDARD
BEGIN:DAYLIGHT
TZOFFSETFROM:-0400
TZOFFSETTO:-0300
TZNAME:ADT
DTSTART:20260308T060000
END:DAYLIGHT
BEGIN:STANDARD
TZOFFSETFROM:-0300
TZOFFSETTO:-0400
TZNAME:AST
DTSTART:20261101T050000
END:STANDARD
BEGIN:DAYLIGHT
TZOFFSETFROM:-0400
TZOFFSETTO:-0300
TZNAME:ADT
DTSTART:20270314T060000
END:DAYLIGHT
BEGIN:STANDARD
TZOFFSETFROM:-0300
TZOFFSETTO:-0400
TZNAME:AST
DTSTART:20271107T050000
END:STANDARD
END:VTIMEZONE
BEGIN:VEVENT
DTSTART;TZID=America/Halifax:20260305T173000
DTEND;TZID=America/Halifax:20260305T193000
DTSTAMP:20260423T074328
CREATED:20251215T171402Z
LAST-MODIFIED:20251215T171402Z
UID:67248-1772731800-1772739000@isans.ca
SUMMARY:Customer Service in Nova Scotia
DESCRIPTION:Do you want to connect with your customers and increase business in Nova Scotia? \nBuild customer service skills to increase your customer relationships. Helping you build loyal and long-term customers and in turn build profitable businesses. Join this session to learn the key aspects of professional customer service skills. \nTo attend this session\, you must: \n\nBe an ISANS business client\nHave a Canadian Language Benchmark (CLB) level of 5+\nBe able to attend in person\n\nRegister using the link: Business Training Registration- Winter 2026 – Fill out form \nIf you have any question email Suhel Shaikh at  business@isans.ca
URL:https://isans.ca/event/customer-service-in-nova-scotia/
LOCATION:ISANS Mumford\, 6960 Mumford Road\, Suite 2120\, Halifax\, B3L4P1
CATEGORIES:Business Training In-Person
END:VEVENT
BEGIN:VEVENT
DTSTART;TZID=America/Halifax:20260312T173000
DTEND;TZID=America/Halifax:20260312T190000
DTSTAMP:20260423T074328
CREATED:20251217T193052Z
LAST-MODIFIED:20260206T131858Z
UID:67279-1773336600-1773342000@isans.ca
SUMMARY:Tax Essentials for Small and Medium Business Growth
DESCRIPTION:This session will provide small and medium-sized business owners with a clear understanding of key taxation requirements in Canada. Our guest speaker will cover essential topics such as business tax obligations\, GST/HST\, payroll considerations\, and common compliance pitfalls. Attendees will learn how to structure their finances effectively and avoid costly mistakes. The session will also highlight practical tips to stay tax-ready throughout the year. This is a valuable opportunity for entrepreneurs who have already started their business or are preparing to scale. Come prepared with questions and leave with clarity and confidence in managing your business taxes. \nTo attend this session\, you must: \n\nBe an ISANS business client\nHave a Canadian Language Benchmark (CLB) level of 5+\nBe able to attend in person\n\nRegister using the link: Business Training Registration- Winter 2026 – Fill out form \nIf you have any question email Suhel Shaikh at  business@isans.ca
URL:https://isans.ca/event/tax-essentials-for-small-and-medium-business-growth-from-startup-to-scale/
LOCATION:ISANS Mumford\, 6960 Mumford Road\, Suite 2120\, Halifax\, B3L4P1
CATEGORIES:Business Training In-Person
END:VEVENT
BEGIN:VEVENT
DTSTART;TZID=America/Halifax:20260318T173000
DTEND;TZID=America/Halifax:20260318T193000
DTSTAMP:20260423T074328
CREATED:20251215T171832Z
LAST-MODIFIED:20251215T171832Z
UID:67252-1773855000-1773862200@isans.ca
SUMMARY:Getting your Business Online
DESCRIPTION:Master the essentials of establishing and optimizing your digital presence. Join us with RBC and learn why being online matters and explore the key building blocks of digital success: the basics of creating a website\, selling online\, marketing your business digitally\, and using social media effectively. \nTo attend this session\, you must: \n\nBe an ISANS business client\nHave a Canadian Language Benchmark (CLB) level of 5+\nBe able to attend in person\n\nRegister using the link: Business Training Registration- Winter 2026 – Fill out form \nIf you have any question email Suhel Shaikh at  business@isans.ca
URL:https://isans.ca/event/getting-your-business-online/
LOCATION:ISANS Mumford\, 6960 Mumford Road\, Suite 2120\, Halifax\, B3L4P1
CATEGORIES:Business Training In-Person
END:VEVENT
END:VCALENDAR