BEGIN:VCALENDAR
VERSION:2.0
PRODID:-//Immigrant Services Association of Nova Scotia - ECPv6.15.17.1//NONSGML v1.0//EN
CALSCALE:GREGORIAN
METHOD:PUBLISH
X-ORIGINAL-URL:https://isans.ca
X-WR-CALDESC:Events for Immigrant Services Association of Nova Scotia
REFRESH-INTERVAL;VALUE=DURATION:PT1H
X-Robots-Tag:noindex
X-PUBLISHED-TTL:PT1H
BEGIN:VTIMEZONE
TZID:America/Halifax
BEGIN:DAYLIGHT
TZOFFSETFROM:-0400
TZOFFSETTO:-0300
TZNAME:ADT
DTSTART:20250309T060000
END:DAYLIGHT
BEGIN:STANDARD
TZOFFSETFROM:-0300
TZOFFSETTO:-0400
TZNAME:AST
DTSTART:20251102T050000
END:STANDARD
BEGIN:DAYLIGHT
TZOFFSETFROM:-0400
TZOFFSETTO:-0300
TZNAME:ADT
DTSTART:20260308T060000
END:DAYLIGHT
BEGIN:STANDARD
TZOFFSETFROM:-0300
TZOFFSETTO:-0400
TZNAME:AST
DTSTART:20261101T050000
END:STANDARD
BEGIN:DAYLIGHT
TZOFFSETFROM:-0400
TZOFFSETTO:-0300
TZNAME:ADT
DTSTART:20270314T060000
END:DAYLIGHT
BEGIN:STANDARD
TZOFFSETFROM:-0300
TZOFFSETTO:-0400
TZNAME:AST
DTSTART:20271107T050000
END:STANDARD
END:VTIMEZONE
BEGIN:VEVENT
DTSTART;TZID=America/Halifax:20260128T090000
DTEND;TZID=America/Halifax:20260128T160000
DTSTAMP:20260419T183345
CREATED:20260120T190729Z
LAST-MODIFIED:20260120T194734Z
UID:68369-1769590800-1769616000@isans.ca
SUMMARY:Building Intercultural Competence Workshop
DESCRIPTION:As Nova Scotia becomes more culturally diverse\, we all need to learn how to welcome and work with immigrants and build a better community together.\nIn this full-day workshop\, you will: \n\nIncrease your understanding of settlement and integration barriers\nExplore practical ways to welcome and support new immigrants\nDevelop intercultural relationship-building skills for working with new immigrants\n\nThis free\, interactive workshop is open to organizations\, service providers\, educators\, and community volunteers. We also deliver workshops tailored to individual organizations. \nWorkshops take place monthly\, either online or in person at ISANS (6960 Mumford Rd\, Suite 2120). Please be sure to register early! \nOnline sessions: \n• Wednesday\, January 28th\, 9:00 am-4:00 pm\nhttps://forms.office.com/r/bNg2hURWxB \n• Tuesday\, March 24th\, 9:00 am-4:00 pm\nhttps://forms.office.com/r/74rLAcP6aj  \nIn-Person sessions: \n• Tuesday\, February 24th\, 9:00 am-4:00 pm\nhttps://forms.office.com/r/xNGCpEsmjx \nFor any queries\, please contact: Colleen Belle | 902-406-4749 | cbelle@isans.ca
URL:https://isans.ca/event/building-intercultural-competence-workshop/
LOCATION:Online
CATEGORIES:Community Integration
END:VEVENT
END:VCALENDAR