BEGIN:VCALENDAR
VERSION:2.0
PRODID:-//Immigrant Services Association of Nova Scotia - ECPv6.15.17.1//NONSGML v1.0//EN
CALSCALE:GREGORIAN
METHOD:PUBLISH
X-WR-CALNAME:Immigrant Services Association of Nova Scotia
X-ORIGINAL-URL:https://isans.ca
X-WR-CALDESC:Events for Immigrant Services Association of Nova Scotia
REFRESH-INTERVAL;VALUE=DURATION:PT1H
X-Robots-Tag:noindex
X-PUBLISHED-TTL:PT1H
BEGIN:VTIMEZONE
TZID:America/Halifax
BEGIN:DAYLIGHT
TZOFFSETFROM:-0400
TZOFFSETTO:-0300
TZNAME:ADT
DTSTART:20250309T060000
END:DAYLIGHT
BEGIN:STANDARD
TZOFFSETFROM:-0300
TZOFFSETTO:-0400
TZNAME:AST
DTSTART:20251102T050000
END:STANDARD
BEGIN:DAYLIGHT
TZOFFSETFROM:-0400
TZOFFSETTO:-0300
TZNAME:ADT
DTSTART:20260308T060000
END:DAYLIGHT
BEGIN:STANDARD
TZOFFSETFROM:-0300
TZOFFSETTO:-0400
TZNAME:AST
DTSTART:20261101T050000
END:STANDARD
BEGIN:DAYLIGHT
TZOFFSETFROM:-0400
TZOFFSETTO:-0300
TZNAME:ADT
DTSTART:20270314T060000
END:DAYLIGHT
BEGIN:STANDARD
TZOFFSETFROM:-0300
TZOFFSETTO:-0400
TZNAME:AST
DTSTART:20271107T050000
END:STANDARD
END:VTIMEZONE
BEGIN:VEVENT
DTSTART;TZID=America/Halifax:20260421T120000
DTEND;TZID=America/Halifax:20260421T130000
DTSTAMP:20260419T121352
CREATED:20260409T125541Z
LAST-MODIFIED:20260409T130335Z
UID:68990-1776772800-1776776400@isans.ca
SUMMARY:ISANS Walking Group
DESCRIPTION:With the Growing Strong Neighbourhoods program and NS Walks. \nJoin us for a weekly walk and connect with others in your community! \nWhen: Every Tuesdays\, 12:00 – 1:00 PM\nStarting: April 14th\nLocation: 334–252 Parkland Drive (Belcher’s Marsh Trail) \nGoogle Maps: click here! \nWhat to Expect: \n\nWalking and socializing\nFresh air and gentle movement\nWe meet in most weather\n\nNo need to register\, everyone welcome! \nQuestions?\nEmail: llessard@isans.ca
URL:https://isans.ca/event/isans-walking-group/2026-04-21/
CATEGORIES:Community Integration
END:VEVENT
BEGIN:VEVENT
DTSTART;TZID=America/Halifax:20260428T120000
DTEND;TZID=America/Halifax:20260428T130000
DTSTAMP:20260419T121352
CREATED:20260409T125541Z
LAST-MODIFIED:20260409T130337Z
UID:68991-1777377600-1777381200@isans.ca
SUMMARY:ISANS Walking Group
DESCRIPTION:With the Growing Strong Neighbourhoods program and NS Walks. \nJoin us for a weekly walk and connect with others in your community! \nWhen: Every Tuesdays\, 12:00 – 1:00 PM\nStarting: April 14th\nLocation: 334–252 Parkland Drive (Belcher’s Marsh Trail) \nGoogle Maps: click here! \nWhat to Expect: \n\nWalking and socializing\nFresh air and gentle movement\nWe meet in most weather\n\nNo need to register\, everyone welcome! \nQuestions?\nEmail: llessard@isans.ca
URL:https://isans.ca/event/isans-walking-group/2026-04-28/
CATEGORIES:Community Integration
END:VEVENT
BEGIN:VEVENT
DTSTART;TZID=America/Halifax:20260429T090000
DTEND;TZID=America/Halifax:20260429T160000
DTSTAMP:20260419T121352
CREATED:20260302T180527Z
LAST-MODIFIED:20260302T183630Z
UID:68633-1777453200-1777478400@isans.ca
SUMMARY:Building Intercultural Competence Workshop
DESCRIPTION:As Nova Scotia becomes more culturally diverse\, we all need to learn how to welcome and work with immigrants and build a better community together.\nIn this full-day workshop\, you will: \n\nIncrease your understanding of settlement and integration barriers\nExplore practical ways to welcome and support new immigrants\nDevelop intercultural relationship-building skills for working with new immigrants\n\nThis free\, interactive workshop is open to organizations\, service providers\, educators\, and community volunteers. We also deliver workshops tailored to individual organizations. \nWorkshops take place monthly\, either online or in person at ISANS (6960 Mumford Rd\, Suite 2120). Please be sure to register early! \nTo register please click on the link below the session that you like to attend. \nOnline sessions: \n• Tuesday\, March 24th\, 9:00 am-4:00 pm\nhttps://forms.office.com/r/74rLAcP6aj \n• Tuesday\, May 26th\, 9:00 am-4:00 pm\nhttps://forms.office.com/r/Y0ADpFq4VL \nIn-Person sessions: \n• Wednesday\, April 29th\, 9:00 am-4:00 pm\nhttps://forms.office.com/r/FxcLDhgjiP \n• Thursday\, June 18th\, 9 :00 am-4:00 pm\nhttps://forms.office.com/r/y0MpfALRRN \nFor any queries\, please contact: Colleen Belle | 902-406-4749 | cbelle@isans.ca
URL:https://isans.ca/event/building-intercultural-competence-workshop-6/
LOCATION:ISANS Mumford\, 6960 Mumford Road\, Suite 2120\, Halifax\, B3L4P1
CATEGORIES:Community Integration
END:VEVENT
BEGIN:VEVENT
DTSTART;TZID=America/Halifax:20260505T120000
DTEND;TZID=America/Halifax:20260505T130000
DTSTAMP:20260419T121352
CREATED:20260409T125541Z
LAST-MODIFIED:20260409T130340Z
UID:68992-1777982400-1777986000@isans.ca
SUMMARY:ISANS Walking Group
DESCRIPTION:With the Growing Strong Neighbourhoods program and NS Walks. \nJoin us for a weekly walk and connect with others in your community! \nWhen: Every Tuesdays\, 12:00 – 1:00 PM\nStarting: April 14th\nLocation: 334–252 Parkland Drive (Belcher’s Marsh Trail) \nGoogle Maps: click here! \nWhat to Expect: \n\nWalking and socializing\nFresh air and gentle movement\nWe meet in most weather\n\nNo need to register\, everyone welcome! \nQuestions?\nEmail: llessard@isans.ca
URL:https://isans.ca/event/isans-walking-group/2026-05-05/
CATEGORIES:Community Integration
END:VEVENT
BEGIN:VEVENT
DTSTART;TZID=America/Halifax:20260512T120000
DTEND;TZID=America/Halifax:20260512T130000
DTSTAMP:20260419T121352
CREATED:20260409T125541Z
LAST-MODIFIED:20260409T130343Z
UID:68993-1778587200-1778590800@isans.ca
SUMMARY:ISANS Walking Group
DESCRIPTION:With the Growing Strong Neighbourhoods program and NS Walks. \nJoin us for a weekly walk and connect with others in your community! \nWhen: Every Tuesdays\, 12:00 – 1:00 PM\nStarting: April 14th\nLocation: 334–252 Parkland Drive (Belcher’s Marsh Trail) \nGoogle Maps: click here! \nWhat to Expect: \n\nWalking and socializing\nFresh air and gentle movement\nWe meet in most weather\n\nNo need to register\, everyone welcome! \nQuestions?\nEmail: llessard@isans.ca
URL:https://isans.ca/event/isans-walking-group/2026-05-12/
CATEGORIES:Community Integration
END:VEVENT
BEGIN:VEVENT
DTSTART;TZID=America/Halifax:20260519T120000
DTEND;TZID=America/Halifax:20260519T130000
DTSTAMP:20260419T121352
CREATED:20260409T125541Z
LAST-MODIFIED:20260409T130346Z
UID:68994-1779192000-1779195600@isans.ca
SUMMARY:ISANS Walking Group
DESCRIPTION:With the Growing Strong Neighbourhoods program and NS Walks. \nJoin us for a weekly walk and connect with others in your community! \nWhen: Every Tuesdays\, 12:00 – 1:00 PM\nStarting: April 14th\nLocation: 334–252 Parkland Drive (Belcher’s Marsh Trail) \nGoogle Maps: click here! \nWhat to Expect: \n\nWalking and socializing\nFresh air and gentle movement\nWe meet in most weather\n\nNo need to register\, everyone welcome! \nQuestions?\nEmail: llessard@isans.ca
URL:https://isans.ca/event/isans-walking-group/2026-05-19/
CATEGORIES:Community Integration
END:VEVENT
BEGIN:VEVENT
DTSTART;TZID=America/Halifax:20260526T090000
DTEND;TZID=America/Halifax:20260526T160000
DTSTAMP:20260419T121352
CREATED:20260302T180336Z
LAST-MODIFIED:20260302T191453Z
UID:68630-1779786000-1779811200@isans.ca
SUMMARY:Building Intercultural Competence Workshop
DESCRIPTION:As Nova Scotia becomes more culturally diverse\, we all need to learn how to welcome and work with immigrants and build a better community together.\nIn this full-day workshop\, you will: \n\nIncrease your understanding of settlement and integration barriers\nExplore practical ways to welcome and support new immigrants\nDevelop intercultural relationship-building skills for working with new immigrants\n\nThis free\, interactive workshop is open to organizations\, service providers\, educators\, and community volunteers. We also deliver workshops tailored to individual organizations. \nWorkshops take place monthly\, either online or in person at ISANS (6960 Mumford Rd\, Suite 2120). Please be sure to register early! \nTo register please click on the link below the session that you like to attend. \nOnline sessions: \n• Tuesday\, March 24th\, 9:00 am-4:00 pm\nhttps://forms.office.com/r/74rLAcP6aj \n• Tuesday\, May 26th\, 9:00 am-4:00 pm\nhttps://forms.office.com/r/Y0ADpFq4VL \nIn-Person sessions: \n• Wednesday\, April 29th\, 9:00 am-4:00 pm\nhttps://forms.office.com/r/FxcLDhgjiP \n• Thursday\, June 18th\, 9 :00 am-4:00 pm\nhttps://forms.office.com/r/y0MpfALRRN \nFor any queries\, please contact: Colleen Belle | 902-406-4749 | cbelle@isans.ca
URL:https://isans.ca/event/building-intercultural-competence-workshop-5/
LOCATION:Online
CATEGORIES:Community Integration
END:VEVENT
BEGIN:VEVENT
DTSTART;TZID=America/Halifax:20260526T120000
DTEND;TZID=America/Halifax:20260526T130000
DTSTAMP:20260419T121352
CREATED:20260409T125541Z
LAST-MODIFIED:20260409T130349Z
UID:68995-1779796800-1779800400@isans.ca
SUMMARY:ISANS Walking Group
DESCRIPTION:With the Growing Strong Neighbourhoods program and NS Walks. \nJoin us for a weekly walk and connect with others in your community! \nWhen: Every Tuesdays\, 12:00 – 1:00 PM\nStarting: April 14th\nLocation: 334–252 Parkland Drive (Belcher’s Marsh Trail) \nGoogle Maps: click here! \nWhat to Expect: \n\nWalking and socializing\nFresh air and gentle movement\nWe meet in most weather\n\nNo need to register\, everyone welcome! \nQuestions?\nEmail: llessard@isans.ca
URL:https://isans.ca/event/isans-walking-group/2026-05-26/
CATEGORIES:Community Integration
END:VEVENT
BEGIN:VEVENT
DTSTART;TZID=America/Halifax:20260618T090000
DTEND;TZID=America/Halifax:20260618T160000
DTSTAMP:20260419T121352
CREATED:20260302T182840Z
LAST-MODIFIED:20260302T182840Z
UID:68635-1781773200-1781798400@isans.ca
SUMMARY:Building Intercultural Competence Workshop
DESCRIPTION:As Nova Scotia becomes more culturally diverse\, we all need to learn how to welcome and work with immigrants and build a better community together.\nIn this full-day workshop\, you will: \n\nIncrease your understanding of settlement and integration barriers\nExplore practical ways to welcome and support new immigrants\nDevelop intercultural relationship-building skills for working with new immigrants\n\nThis free\, interactive workshop is open to organizations\, service providers\, educators\, and community volunteers. We also deliver workshops tailored to individual organizations. \nWorkshops take place monthly\, either online or in person at ISANS (6960 Mumford Rd\, Suite 2120). Please be sure to register early! \nTo register please click on the link below the session that you like to attend. \nOnline sessions: \n• Tuesday\, March 24th\, 9:00 am-4:00 pm\nhttps://forms.office.com/r/74rLAcP6aj \n• Tuesday\, May 26th\, 9:00 am-4:00 pm\nhttps://forms.office.com/r/Y0ADpFq4VL \nIn-Person sessions: \n• Wednesday\, April 29th\, 9:00 am-4:00 pm\nhttps://forms.office.com/r/FxcLDhgjiP \n• Thursday\, June 18th\, 9 :00 am-4:00 pm\nhttps://forms.office.com/r/y0MpfALRRN \nFor any queries\, please contact: Colleen Belle | 902-406-4749 | cbelle@isans.ca
URL:https://isans.ca/event/building-intercultural-competence-workshop-7/
LOCATION:ISANS Mumford\, 6960 Mumford Road\, Suite 2120\, Halifax\, B3L4P1
CATEGORIES:Community Integration
END:VEVENT
END:VCALENDAR