BEGIN:VCALENDAR
VERSION:2.0
PRODID:-//Immigrant Services Association of Nova Scotia - ECPv6.15.17.1//NONSGML v1.0//EN
CALSCALE:GREGORIAN
METHOD:PUBLISH
X-ORIGINAL-URL:https://isans.ca
X-WR-CALDESC:Events for Immigrant Services Association of Nova Scotia
REFRESH-INTERVAL;VALUE=DURATION:PT1H
X-Robots-Tag:noindex
X-PUBLISHED-TTL:PT1H
BEGIN:VTIMEZONE
TZID:America/Halifax
BEGIN:DAYLIGHT
TZOFFSETFROM:-0400
TZOFFSETTO:-0300
TZNAME:ADT
DTSTART:20240310T060000
END:DAYLIGHT
BEGIN:STANDARD
TZOFFSETFROM:-0300
TZOFFSETTO:-0400
TZNAME:AST
DTSTART:20241103T050000
END:STANDARD
BEGIN:DAYLIGHT
TZOFFSETFROM:-0400
TZOFFSETTO:-0300
TZNAME:ADT
DTSTART:20250309T060000
END:DAYLIGHT
BEGIN:STANDARD
TZOFFSETFROM:-0300
TZOFFSETTO:-0400
TZNAME:AST
DTSTART:20251102T050000
END:STANDARD
BEGIN:DAYLIGHT
TZOFFSETFROM:-0400
TZOFFSETTO:-0300
TZNAME:ADT
DTSTART:20260308T060000
END:DAYLIGHT
BEGIN:STANDARD
TZOFFSETFROM:-0300
TZOFFSETTO:-0400
TZNAME:AST
DTSTART:20261101T050000
END:STANDARD
END:VTIMEZONE
BEGIN:VEVENT
DTSTART;TZID=America/Halifax:20251003T131500
DTEND;TZID=America/Halifax:20251003T151500
DTSTAMP:20260421T140030
CREATED:20250903T162349Z
LAST-MODIFIED:20251027T170610Z
UID:65322-1759497300-1759504500@isans.ca
SUMMARY:On-site Computer Training
DESCRIPTION:Would you like to improve your computer skills? You can register for the following computer courses: \n\nMs. Word\nOct 3-Oct 10\, 6 classes\, 2 hours\nEveryday\, 1:15 PM –3:15 PM \nOutlook I\nOct 14-Oct 15\, 2 classes\, 2 hours\nTuesday\, Wednesday\, 1:15 PM –3:15 PM \nOutlook II\nOct 16-Oct 17\, 2 classes\, 2 hours\nThursday\, Friday\, 1:15 PM –3:15 PM \nExcel 1\nOct 20-Oct 31\, 6 classes\, 2 hours\nMonday\, Wednesday\, Friday\, 1:15 PM –3:15 PM \nKeyboarding\nOct 21-Oct 30\, 2 classes\, 2 hours\nTuesday\, Thursday\, 10 AM–12 PM \nPowerPoint\nNov 5-Nov 10\, 4 classes\, 2 hours\nEveryday\, 10 AM–12 PM \nBasic Computer\nNov 12-Nov 18\, 5 classes\, 2 hours\nEveryday\, 1:15 PM –3:15 PM \nExcel II\nNov 19-Nov 27\, 6 classes\, 2 hours\nEveryday\, 1:15 PM–3:15 PM \nLinkedIn\nDec 2-Dec 3\, 2 classes\, 2 hours\nTuesday\, Wednesday\, 10 AM–12 PM \n\nFor more information\, please contact:\nBasam Tahoor | 902-406-4089 | computerskills@isans.ca
URL:https://isans.ca/event/on-site-computer-training/2025-10-03/
LOCATION:ISANS Mumford\, 6960 Mumford Road\, Suite 2120\, Halifax\, B3L4P1
CATEGORIES:Employment
END:VEVENT
BEGIN:VEVENT
DTSTART;TZID=America/Halifax:20251021T100000
DTEND;TZID=America/Halifax:20251021T120000
DTSTAMP:20260421T140030
CREATED:20250903T162349Z
LAST-MODIFIED:20251027T170630Z
UID:66235-1761040800-1761048000@isans.ca
SUMMARY:On-site Computer Training
DESCRIPTION:Would you like to improve your computer skills? You can register for the following computer courses: \n\nMs. Word\nOct 3-Oct 10\, 6 classes\, 2 hours\nEveryday\, 1:15 PM –3:15 PM \nOutlook I\nOct 14-Oct 15\, 2 classes\, 2 hours\nTuesday\, Wednesday\, 1:15 PM –3:15 PM \nOutlook II\nOct 16-Oct 17\, 2 classes\, 2 hours\nThursday\, Friday\, 1:15 PM –3:15 PM \nExcel 1\nOct 20-Oct 31\, 6 classes\, 2 hours\nMonday\, Wednesday\, Friday\, 1:15 PM –3:15 PM \nKeyboarding\nOct 21-Oct 30\, 2 classes\, 2 hours\nTuesday\, Thursday\, 10 AM–12 PM \nPowerPoint\nNov 5-Nov 10\, 4 classes\, 2 hours\nEveryday\, 10 AM–12 PM \nBasic Computer\nNov 12-Nov 18\, 5 classes\, 2 hours\nEveryday\, 1:15 PM –3:15 PM \nExcel II\nNov 19-Nov 27\, 6 classes\, 2 hours\nEveryday\, 1:15 PM–3:15 PM \nLinkedIn\nDec 2-Dec 3\, 2 classes\, 2 hours\nTuesday\, Wednesday\, 10 AM–12 PM \n\nFor more information\, please contact:\nBasam Tahoor | 902-406-4089 | computerskills@isans.ca
URL:https://isans.ca/event/on-site-computer-training/2025-10-21/
LOCATION:ISANS Mumford\, 6960 Mumford Road\, Suite 2120\, Halifax\, B3L4P1
CATEGORIES:Employment
END:VEVENT
BEGIN:VEVENT
DTSTART;TZID=America/Halifax:20251021T131500
DTEND;TZID=America/Halifax:20251021T151500
DTSTAMP:20260421T140030
CREATED:20250903T162349Z
LAST-MODIFIED:20251027T170631Z
UID:66236-1761052500-1761059700@isans.ca
SUMMARY:On-site Computer Training
DESCRIPTION:Would you like to improve your computer skills? You can register for the following computer courses: \n\nMs. Word\nOct 3-Oct 10\, 6 classes\, 2 hours\nEveryday\, 1:15 PM –3:15 PM \nOutlook I\nOct 14-Oct 15\, 2 classes\, 2 hours\nTuesday\, Wednesday\, 1:15 PM –3:15 PM \nOutlook II\nOct 16-Oct 17\, 2 classes\, 2 hours\nThursday\, Friday\, 1:15 PM –3:15 PM \nExcel 1\nOct 20-Oct 31\, 6 classes\, 2 hours\nMonday\, Wednesday\, Friday\, 1:15 PM –3:15 PM \nKeyboarding\nOct 21-Oct 30\, 2 classes\, 2 hours\nTuesday\, Thursday\, 10 AM–12 PM \nPowerPoint\nNov 5-Nov 10\, 4 classes\, 2 hours\nEveryday\, 10 AM–12 PM \nBasic Computer\nNov 12-Nov 18\, 5 classes\, 2 hours\nEveryday\, 1:15 PM –3:15 PM \nExcel II\nNov 19-Nov 27\, 6 classes\, 2 hours\nEveryday\, 1:15 PM–3:15 PM \nLinkedIn\nDec 2-Dec 3\, 2 classes\, 2 hours\nTuesday\, Wednesday\, 10 AM–12 PM \n\nFor more information\, please contact:\nBasam Tahoor | 902-406-4089 | computerskills@isans.ca
URL:https://isans.ca/event/on-site-computer-training/2025-10-21/2/
LOCATION:ISANS Mumford\, 6960 Mumford Road\, Suite 2120\, Halifax\, B3L4P1
CATEGORIES:Employment
END:VEVENT
BEGIN:VEVENT
DTSTART;TZID=America/Halifax:20251022T131500
DTEND;TZID=America/Halifax:20251022T151500
DTSTAMP:20260421T140030
CREATED:20250903T162349Z
LAST-MODIFIED:20251027T170632Z
UID:66237-1761138900-1761146100@isans.ca
SUMMARY:On-site Computer Training
DESCRIPTION:Would you like to improve your computer skills? You can register for the following computer courses: \n\nMs. Word\nOct 3-Oct 10\, 6 classes\, 2 hours\nEveryday\, 1:15 PM –3:15 PM \nOutlook I\nOct 14-Oct 15\, 2 classes\, 2 hours\nTuesday\, Wednesday\, 1:15 PM –3:15 PM \nOutlook II\nOct 16-Oct 17\, 2 classes\, 2 hours\nThursday\, Friday\, 1:15 PM –3:15 PM \nExcel 1\nOct 20-Oct 31\, 6 classes\, 2 hours\nMonday\, Wednesday\, Friday\, 1:15 PM –3:15 PM \nKeyboarding\nOct 21-Oct 30\, 2 classes\, 2 hours\nTuesday\, Thursday\, 10 AM–12 PM \nPowerPoint\nNov 5-Nov 10\, 4 classes\, 2 hours\nEveryday\, 10 AM–12 PM \nBasic Computer\nNov 12-Nov 18\, 5 classes\, 2 hours\nEveryday\, 1:15 PM –3:15 PM \nExcel II\nNov 19-Nov 27\, 6 classes\, 2 hours\nEveryday\, 1:15 PM–3:15 PM \nLinkedIn\nDec 2-Dec 3\, 2 classes\, 2 hours\nTuesday\, Wednesday\, 10 AM–12 PM \n\nFor more information\, please contact:\nBasam Tahoor | 902-406-4089 | computerskills@isans.ca
URL:https://isans.ca/event/on-site-computer-training/2025-10-22/
LOCATION:ISANS Mumford\, 6960 Mumford Road\, Suite 2120\, Halifax\, B3L4P1
CATEGORIES:Employment
END:VEVENT
BEGIN:VEVENT
DTSTART;TZID=America/Halifax:20251023T130000
DTEND;TZID=America/Halifax:20251023T160000
DTSTAMP:20260421T140030
CREATED:20250923T151104Z
LAST-MODIFIED:20251113T200039Z
UID:65771-1761224400-1761235200@isans.ca
SUMMARY:Job Search Resource Centre Workshops
DESCRIPTION:Build your career skills and take the next step toward success! \nUpcoming Workshops:  \n\nSeptember 2025\n\nLinkedIn Profile Building and Optimization – September 25\, 2025\n\n\nOctober 2025\n\nJob Fair Preparation – October 2\, 2025\nResume Writing and Cover Letter Writing – October 9\, 2025\nNetworking Strategies & the Hidden Job Market – October 23\, 2025\n\n\nNovember 2025\n\nResume Writing and Cover Letter Writing – November 6\, 2025\nInterview Preparation and Best Practices – November 20\, 2025\n\n\nDecember 2025\n\nResume Writing and Cover Letter Writing – December 4\, 2025\n\n\nEligibility:\n\nBe an ISANS client.\nHave a Canadian Language Benchmark (CLB) level of 4+\n\n\n\nFor more information and register\, please contact:\nRanjit Singh | 902-482-4373 | rsingh@isans.ca
URL:https://isans.ca/event/job-search-resource-centre-2/2025-10-23/
LOCATION:ISANS Desmond\, 7071 Bayers Road\, Suite 164 (Desmond Avenue entrance)
CATEGORIES:Employment
GEO:44.6558793;-63.6258569
X-APPLE-STRUCTURED-LOCATION;VALUE=URI;X-ADDRESS=ISANS Desmond 7071 Bayers Road Suite 164 (Desmond Avenue entrance);X-APPLE-RADIUS=500;X-TITLE=7071 Bayers Road\, Suite 164 (Desmond Avenue entrance):geo:-63.6258569,44.6558793
END:VEVENT
BEGIN:VEVENT
DTSTART;TZID=America/Halifax:20251023T131500
DTEND;TZID=America/Halifax:20251023T151500
DTSTAMP:20260421T140030
CREATED:20250903T162349Z
LAST-MODIFIED:20251027T170633Z
UID:66238-1761225300-1761232500@isans.ca
SUMMARY:On-site Computer Training
DESCRIPTION:Would you like to improve your computer skills? You can register for the following computer courses: \n\nMs. Word\nOct 3-Oct 10\, 6 classes\, 2 hours\nEveryday\, 1:15 PM –3:15 PM \nOutlook I\nOct 14-Oct 15\, 2 classes\, 2 hours\nTuesday\, Wednesday\, 1:15 PM –3:15 PM \nOutlook II\nOct 16-Oct 17\, 2 classes\, 2 hours\nThursday\, Friday\, 1:15 PM –3:15 PM \nExcel 1\nOct 20-Oct 31\, 6 classes\, 2 hours\nMonday\, Wednesday\, Friday\, 1:15 PM –3:15 PM \nKeyboarding\nOct 21-Oct 30\, 2 classes\, 2 hours\nTuesday\, Thursday\, 10 AM–12 PM \nPowerPoint\nNov 5-Nov 10\, 4 classes\, 2 hours\nEveryday\, 10 AM–12 PM \nBasic Computer\nNov 12-Nov 18\, 5 classes\, 2 hours\nEveryday\, 1:15 PM –3:15 PM \nExcel II\nNov 19-Nov 27\, 6 classes\, 2 hours\nEveryday\, 1:15 PM–3:15 PM \nLinkedIn\nDec 2-Dec 3\, 2 classes\, 2 hours\nTuesday\, Wednesday\, 10 AM–12 PM \n\nFor more information\, please contact:\nBasam Tahoor | 902-406-4089 | computerskills@isans.ca
URL:https://isans.ca/event/on-site-computer-training/2025-10-23/
LOCATION:ISANS Mumford\, 6960 Mumford Road\, Suite 2120\, Halifax\, B3L4P1
CATEGORIES:Employment
END:VEVENT
BEGIN:VEVENT
DTSTART;TZID=America/Halifax:20251024T131500
DTEND;TZID=America/Halifax:20251024T151500
DTSTAMP:20260421T140030
CREATED:20250903T162349Z
LAST-MODIFIED:20251027T170634Z
UID:66239-1761311700-1761318900@isans.ca
SUMMARY:On-site Computer Training
DESCRIPTION:Would you like to improve your computer skills? You can register for the following computer courses: \n\nMs. Word\nOct 3-Oct 10\, 6 classes\, 2 hours\nEveryday\, 1:15 PM –3:15 PM \nOutlook I\nOct 14-Oct 15\, 2 classes\, 2 hours\nTuesday\, Wednesday\, 1:15 PM –3:15 PM \nOutlook II\nOct 16-Oct 17\, 2 classes\, 2 hours\nThursday\, Friday\, 1:15 PM –3:15 PM \nExcel 1\nOct 20-Oct 31\, 6 classes\, 2 hours\nMonday\, Wednesday\, Friday\, 1:15 PM –3:15 PM \nKeyboarding\nOct 21-Oct 30\, 2 classes\, 2 hours\nTuesday\, Thursday\, 10 AM–12 PM \nPowerPoint\nNov 5-Nov 10\, 4 classes\, 2 hours\nEveryday\, 10 AM–12 PM \nBasic Computer\nNov 12-Nov 18\, 5 classes\, 2 hours\nEveryday\, 1:15 PM –3:15 PM \nExcel II\nNov 19-Nov 27\, 6 classes\, 2 hours\nEveryday\, 1:15 PM–3:15 PM \nLinkedIn\nDec 2-Dec 3\, 2 classes\, 2 hours\nTuesday\, Wednesday\, 10 AM–12 PM \n\nFor more information\, please contact:\nBasam Tahoor | 902-406-4089 | computerskills@isans.ca
URL:https://isans.ca/event/on-site-computer-training/2025-10-24/
LOCATION:ISANS Mumford\, 6960 Mumford Road\, Suite 2120\, Halifax\, B3L4P1
CATEGORIES:Employment
END:VEVENT
BEGIN:VEVENT
DTSTART;TZID=America/Halifax:20251027T131500
DTEND;TZID=America/Halifax:20251027T151500
DTSTAMP:20260421T140030
CREATED:20250903T162349Z
LAST-MODIFIED:20251027T170640Z
UID:66240-1761570900-1761578100@isans.ca
SUMMARY:On-site Computer Training
DESCRIPTION:Would you like to improve your computer skills? You can register for the following computer courses: \n\nMs. Word\nOct 3-Oct 10\, 6 classes\, 2 hours\nEveryday\, 1:15 PM –3:15 PM \nOutlook I\nOct 14-Oct 15\, 2 classes\, 2 hours\nTuesday\, Wednesday\, 1:15 PM –3:15 PM \nOutlook II\nOct 16-Oct 17\, 2 classes\, 2 hours\nThursday\, Friday\, 1:15 PM –3:15 PM \nExcel 1\nOct 20-Oct 31\, 6 classes\, 2 hours\nMonday\, Wednesday\, Friday\, 1:15 PM –3:15 PM \nKeyboarding\nOct 21-Oct 30\, 2 classes\, 2 hours\nTuesday\, Thursday\, 10 AM–12 PM \nPowerPoint\nNov 5-Nov 10\, 4 classes\, 2 hours\nEveryday\, 10 AM–12 PM \nBasic Computer\nNov 12-Nov 18\, 5 classes\, 2 hours\nEveryday\, 1:15 PM –3:15 PM \nExcel II\nNov 19-Nov 27\, 6 classes\, 2 hours\nEveryday\, 1:15 PM–3:15 PM \nLinkedIn\nDec 2-Dec 3\, 2 classes\, 2 hours\nTuesday\, Wednesday\, 10 AM–12 PM \n\nFor more information\, please contact:\nBasam Tahoor | 902-406-4089 | computerskills@isans.ca
URL:https://isans.ca/event/on-site-computer-training/2025-10-27/
LOCATION:ISANS Mumford\, 6960 Mumford Road\, Suite 2120\, Halifax\, B3L4P1
CATEGORIES:Employment
END:VEVENT
BEGIN:VEVENT
DTSTART;TZID=America/Halifax:20251028T131500
DTEND;TZID=America/Halifax:20251028T151500
DTSTAMP:20260421T140030
CREATED:20250903T162349Z
LAST-MODIFIED:20251027T170641Z
UID:66241-1761657300-1761664500@isans.ca
SUMMARY:On-site Computer Training
DESCRIPTION:Would you like to improve your computer skills? You can register for the following computer courses: \n\nMs. Word\nOct 3-Oct 10\, 6 classes\, 2 hours\nEveryday\, 1:15 PM –3:15 PM \nOutlook I\nOct 14-Oct 15\, 2 classes\, 2 hours\nTuesday\, Wednesday\, 1:15 PM –3:15 PM \nOutlook II\nOct 16-Oct 17\, 2 classes\, 2 hours\nThursday\, Friday\, 1:15 PM –3:15 PM \nExcel 1\nOct 20-Oct 31\, 6 classes\, 2 hours\nMonday\, Wednesday\, Friday\, 1:15 PM –3:15 PM \nKeyboarding\nOct 21-Oct 30\, 2 classes\, 2 hours\nTuesday\, Thursday\, 10 AM–12 PM \nPowerPoint\nNov 5-Nov 10\, 4 classes\, 2 hours\nEveryday\, 10 AM–12 PM \nBasic Computer\nNov 12-Nov 18\, 5 classes\, 2 hours\nEveryday\, 1:15 PM –3:15 PM \nExcel II\nNov 19-Nov 27\, 6 classes\, 2 hours\nEveryday\, 1:15 PM–3:15 PM \nLinkedIn\nDec 2-Dec 3\, 2 classes\, 2 hours\nTuesday\, Wednesday\, 10 AM–12 PM \n\nFor more information\, please contact:\nBasam Tahoor | 902-406-4089 | computerskills@isans.ca
URL:https://isans.ca/event/on-site-computer-training/2025-10-28/
LOCATION:ISANS Mumford\, 6960 Mumford Road\, Suite 2120\, Halifax\, B3L4P1
CATEGORIES:Employment
END:VEVENT
BEGIN:VEVENT
DTSTART;TZID=America/Halifax:20251029T131500
DTEND;TZID=America/Halifax:20251029T151500
DTSTAMP:20260421T140030
CREATED:20250903T162349Z
LAST-MODIFIED:20251027T170642Z
UID:66242-1761743700-1761750900@isans.ca
SUMMARY:On-site Computer Training
DESCRIPTION:Would you like to improve your computer skills? You can register for the following computer courses: \n\nMs. Word\nOct 3-Oct 10\, 6 classes\, 2 hours\nEveryday\, 1:15 PM –3:15 PM \nOutlook I\nOct 14-Oct 15\, 2 classes\, 2 hours\nTuesday\, Wednesday\, 1:15 PM –3:15 PM \nOutlook II\nOct 16-Oct 17\, 2 classes\, 2 hours\nThursday\, Friday\, 1:15 PM –3:15 PM \nExcel 1\nOct 20-Oct 31\, 6 classes\, 2 hours\nMonday\, Wednesday\, Friday\, 1:15 PM –3:15 PM \nKeyboarding\nOct 21-Oct 30\, 2 classes\, 2 hours\nTuesday\, Thursday\, 10 AM–12 PM \nPowerPoint\nNov 5-Nov 10\, 4 classes\, 2 hours\nEveryday\, 10 AM–12 PM \nBasic Computer\nNov 12-Nov 18\, 5 classes\, 2 hours\nEveryday\, 1:15 PM –3:15 PM \nExcel II\nNov 19-Nov 27\, 6 classes\, 2 hours\nEveryday\, 1:15 PM–3:15 PM \nLinkedIn\nDec 2-Dec 3\, 2 classes\, 2 hours\nTuesday\, Wednesday\, 10 AM–12 PM \n\nFor more information\, please contact:\nBasam Tahoor | 902-406-4089 | computerskills@isans.ca
URL:https://isans.ca/event/on-site-computer-training/2025-10-29/
LOCATION:ISANS Mumford\, 6960 Mumford Road\, Suite 2120\, Halifax\, B3L4P1
CATEGORIES:Employment
END:VEVENT
BEGIN:VEVENT
DTSTART;TZID=America/Halifax:20251030T100000
DTEND;TZID=America/Halifax:20251030T120000
DTSTAMP:20260421T140030
CREATED:20250903T162349Z
LAST-MODIFIED:20251027T170643Z
UID:66243-1761818400-1761825600@isans.ca
SUMMARY:On-site Computer Training
DESCRIPTION:Would you like to improve your computer skills? You can register for the following computer courses: \n\nMs. Word\nOct 3-Oct 10\, 6 classes\, 2 hours\nEveryday\, 1:15 PM –3:15 PM \nOutlook I\nOct 14-Oct 15\, 2 classes\, 2 hours\nTuesday\, Wednesday\, 1:15 PM –3:15 PM \nOutlook II\nOct 16-Oct 17\, 2 classes\, 2 hours\nThursday\, Friday\, 1:15 PM –3:15 PM \nExcel 1\nOct 20-Oct 31\, 6 classes\, 2 hours\nMonday\, Wednesday\, Friday\, 1:15 PM –3:15 PM \nKeyboarding\nOct 21-Oct 30\, 2 classes\, 2 hours\nTuesday\, Thursday\, 10 AM–12 PM \nPowerPoint\nNov 5-Nov 10\, 4 classes\, 2 hours\nEveryday\, 10 AM–12 PM \nBasic Computer\nNov 12-Nov 18\, 5 classes\, 2 hours\nEveryday\, 1:15 PM –3:15 PM \nExcel II\nNov 19-Nov 27\, 6 classes\, 2 hours\nEveryday\, 1:15 PM–3:15 PM \nLinkedIn\nDec 2-Dec 3\, 2 classes\, 2 hours\nTuesday\, Wednesday\, 10 AM–12 PM \n\nFor more information\, please contact:\nBasam Tahoor | 902-406-4089 | computerskills@isans.ca
URL:https://isans.ca/event/on-site-computer-training/2025-10-30/
LOCATION:ISANS Mumford\, 6960 Mumford Road\, Suite 2120\, Halifax\, B3L4P1
CATEGORIES:Employment
END:VEVENT
BEGIN:VEVENT
DTSTART;TZID=America/Halifax:20251030T131500
DTEND;TZID=America/Halifax:20251030T151500
DTSTAMP:20260421T140030
CREATED:20250903T162349Z
LAST-MODIFIED:20251027T170644Z
UID:66244-1761830100-1761837300@isans.ca
SUMMARY:On-site Computer Training
DESCRIPTION:Would you like to improve your computer skills? You can register for the following computer courses: \n\nMs. Word\nOct 3-Oct 10\, 6 classes\, 2 hours\nEveryday\, 1:15 PM –3:15 PM \nOutlook I\nOct 14-Oct 15\, 2 classes\, 2 hours\nTuesday\, Wednesday\, 1:15 PM –3:15 PM \nOutlook II\nOct 16-Oct 17\, 2 classes\, 2 hours\nThursday\, Friday\, 1:15 PM –3:15 PM \nExcel 1\nOct 20-Oct 31\, 6 classes\, 2 hours\nMonday\, Wednesday\, Friday\, 1:15 PM –3:15 PM \nKeyboarding\nOct 21-Oct 30\, 2 classes\, 2 hours\nTuesday\, Thursday\, 10 AM–12 PM \nPowerPoint\nNov 5-Nov 10\, 4 classes\, 2 hours\nEveryday\, 10 AM–12 PM \nBasic Computer\nNov 12-Nov 18\, 5 classes\, 2 hours\nEveryday\, 1:15 PM –3:15 PM \nExcel II\nNov 19-Nov 27\, 6 classes\, 2 hours\nEveryday\, 1:15 PM–3:15 PM \nLinkedIn\nDec 2-Dec 3\, 2 classes\, 2 hours\nTuesday\, Wednesday\, 10 AM–12 PM \n\nFor more information\, please contact:\nBasam Tahoor | 902-406-4089 | computerskills@isans.ca
URL:https://isans.ca/event/on-site-computer-training/2025-10-30/3/
LOCATION:ISANS Mumford\, 6960 Mumford Road\, Suite 2120\, Halifax\, B3L4P1
CATEGORIES:Employment
END:VEVENT
BEGIN:VEVENT
DTSTART;TZID=America/Halifax:20251031T131500
DTEND;TZID=America/Halifax:20251031T151500
DTSTAMP:20260421T140030
CREATED:20250903T162349Z
LAST-MODIFIED:20251027T170645Z
UID:66245-1761916500-1761923700@isans.ca
SUMMARY:On-site Computer Training
DESCRIPTION:Would you like to improve your computer skills? You can register for the following computer courses: \n\nMs. Word\nOct 3-Oct 10\, 6 classes\, 2 hours\nEveryday\, 1:15 PM –3:15 PM \nOutlook I\nOct 14-Oct 15\, 2 classes\, 2 hours\nTuesday\, Wednesday\, 1:15 PM –3:15 PM \nOutlook II\nOct 16-Oct 17\, 2 classes\, 2 hours\nThursday\, Friday\, 1:15 PM –3:15 PM \nExcel 1\nOct 20-Oct 31\, 6 classes\, 2 hours\nMonday\, Wednesday\, Friday\, 1:15 PM –3:15 PM \nKeyboarding\nOct 21-Oct 30\, 2 classes\, 2 hours\nTuesday\, Thursday\, 10 AM–12 PM \nPowerPoint\nNov 5-Nov 10\, 4 classes\, 2 hours\nEveryday\, 10 AM–12 PM \nBasic Computer\nNov 12-Nov 18\, 5 classes\, 2 hours\nEveryday\, 1:15 PM –3:15 PM \nExcel II\nNov 19-Nov 27\, 6 classes\, 2 hours\nEveryday\, 1:15 PM–3:15 PM \nLinkedIn\nDec 2-Dec 3\, 2 classes\, 2 hours\nTuesday\, Wednesday\, 10 AM–12 PM \n\nFor more information\, please contact:\nBasam Tahoor | 902-406-4089 | computerskills@isans.ca
URL:https://isans.ca/event/on-site-computer-training/2025-10-31/
LOCATION:ISANS Mumford\, 6960 Mumford Road\, Suite 2120\, Halifax\, B3L4P1
CATEGORIES:Employment
END:VEVENT
END:VCALENDAR