BEGIN:VCALENDAR
VERSION:2.0
PRODID:-//Immigrant Services Association of Nova Scotia - ECPv6.15.17.1//NONSGML v1.0//EN
CALSCALE:GREGORIAN
METHOD:PUBLISH
X-WR-CALNAME:Immigrant Services Association of Nova Scotia
X-ORIGINAL-URL:https://isans.ca
X-WR-CALDESC:Events for Immigrant Services Association of Nova Scotia
REFRESH-INTERVAL;VALUE=DURATION:PT1H
X-Robots-Tag:noindex
X-PUBLISHED-TTL:PT1H
BEGIN:VTIMEZONE
TZID:America/Halifax
BEGIN:DAYLIGHT
TZOFFSETFROM:-0400
TZOFFSETTO:-0300
TZNAME:ADT
DTSTART:20250309T060000
END:DAYLIGHT
BEGIN:STANDARD
TZOFFSETFROM:-0300
TZOFFSETTO:-0400
TZNAME:AST
DTSTART:20251102T050000
END:STANDARD
BEGIN:DAYLIGHT
TZOFFSETFROM:-0400
TZOFFSETTO:-0300
TZNAME:ADT
DTSTART:20260308T060000
END:DAYLIGHT
BEGIN:STANDARD
TZOFFSETFROM:-0300
TZOFFSETTO:-0400
TZNAME:AST
DTSTART:20261101T050000
END:STANDARD
BEGIN:DAYLIGHT
TZOFFSETFROM:-0400
TZOFFSETTO:-0300
TZNAME:ADT
DTSTART:20270314T060000
END:DAYLIGHT
BEGIN:STANDARD
TZOFFSETFROM:-0300
TZOFFSETTO:-0400
TZNAME:AST
DTSTART:20271107T050000
END:STANDARD
END:VTIMEZONE
BEGIN:VEVENT
DTSTART;TZID=America/Halifax:20260102T131500
DTEND;TZID=America/Halifax:20260102T151500
DTSTAMP:20260421T085558
CREATED:20250903T154250Z
LAST-MODIFIED:20250903T154250Z
UID:66098-1767359700-1767366900@isans.ca
SUMMARY:Online Computer Training
DESCRIPTION:Would you like to improve your computer skills? You can register for the following computer courses: \n\nGoogle Docs\nDec 4-Dec 11\, 6 classes\, 2 hours\nEveryday\, 10 AM –12 PM \nGoogle Slides\nDec 12-Dec 17\, 4 classes\, 2 hours\nEveryday\, 10 AM–12 PM \nAI Course\nDec 18-Dec 19\, 2 classes\, 2 hours\nThursday\, Friday\, 1:15 PM–3:15 PM \nGoogle Sheets\nDec 22-Jan 2\, 6 classes\, 2 hours\nEveryday\, 1:15 PM –3:15 PM \n\nFor more information\, please contact:\nBasam Tahoor | 902-406-4089 | computerskills@isans.ca
URL:https://isans.ca/event/online-computer-training-2/2026-01-02/
LOCATION:Online
CATEGORIES:Employment
END:VEVENT
BEGIN:VEVENT
DTSTART;TZID=America/Halifax:20260106T090000
DTEND;TZID=America/Halifax:20260106T120000
DTSTAMP:20260421T085558
CREATED:20251120T210548Z
LAST-MODIFIED:20251120T211530Z
UID:66828-1767690000-1767700800@isans.ca
SUMMARY:On-site Computer Training
DESCRIPTION:Would you like to improve your computer skills? You can register for the following computer courses: \nAccelerated Word\nJan 6-Jan 9\, 4 classes\, 3 hours\nEveryday\, 9 AM –12 PM \nOutlook I\nJan 12-Jan 13\, 2 classes\, 2 hours\nMonday\, Tuesday\, 10 AM –12 PM \nLinkedIn\nJan 22-Jan 23\, 2 classes\, 2 hours\nThursday\, Friday\, 10 AM –12 PM \nAccelerated Excel I\nJan 26-Jan 28\, 4 classes\, 3 hours\nEveryday\, 9 AM – 12 PM \nAI\nFeb 25-Feb 26\, 2 classes\, 2 hours\nWednesday\, Thursday\, 10 AM – 12 PM \nGoogle Docs\nMar 10-Mar 18\, 6 classes\, 2 hours\nEveryday\, 1:15 PM – 3:15 PM \nBasic Computer\nMar 19-Mar 25\, 5 classes\, 2 hours\nEveryday\, 10 AM – 12 PM \nKeyboarding\nMar 26- Mar 31\, 4 classes\, 2 hours\nEveryday\, 1:15 PM – 3:15 PM \n\nFor more information\, please contact: Basam Tahoor  |  902-406-4089 |  computerskills@isans.ca
URL:https://isans.ca/event/on-site-computer-training-2/2026-01-06/
LOCATION:ISANS Mumford\, 6960 Mumford Road\, Suite 2120\, Halifax\, B3L4P1
CATEGORIES:Employment
END:VEVENT
BEGIN:VEVENT
DTSTART;TZID=America/Halifax:20260107T090000
DTEND;TZID=America/Halifax:20260107T120000
DTSTAMP:20260421T085558
CREATED:20251120T210548Z
LAST-MODIFIED:20251120T211531Z
UID:66830-1767776400-1767787200@isans.ca
SUMMARY:On-site Computer Training
DESCRIPTION:Would you like to improve your computer skills? You can register for the following computer courses: \nAccelerated Word\nJan 6-Jan 9\, 4 classes\, 3 hours\nEveryday\, 9 AM –12 PM \nOutlook I\nJan 12-Jan 13\, 2 classes\, 2 hours\nMonday\, Tuesday\, 10 AM –12 PM \nLinkedIn\nJan 22-Jan 23\, 2 classes\, 2 hours\nThursday\, Friday\, 10 AM –12 PM \nAccelerated Excel I\nJan 26-Jan 28\, 4 classes\, 3 hours\nEveryday\, 9 AM – 12 PM \nAI\nFeb 25-Feb 26\, 2 classes\, 2 hours\nWednesday\, Thursday\, 10 AM – 12 PM \nGoogle Docs\nMar 10-Mar 18\, 6 classes\, 2 hours\nEveryday\, 1:15 PM – 3:15 PM \nBasic Computer\nMar 19-Mar 25\, 5 classes\, 2 hours\nEveryday\, 10 AM – 12 PM \nKeyboarding\nMar 26- Mar 31\, 4 classes\, 2 hours\nEveryday\, 1:15 PM – 3:15 PM \n\nFor more information\, please contact: Basam Tahoor  |  902-406-4089 |  computerskills@isans.ca
URL:https://isans.ca/event/on-site-computer-training-2/2026-01-07/
LOCATION:ISANS Mumford\, 6960 Mumford Road\, Suite 2120\, Halifax\, B3L4P1
CATEGORIES:Employment
END:VEVENT
BEGIN:VEVENT
DTSTART;TZID=America/Halifax:20260108T090000
DTEND;TZID=America/Halifax:20260108T120000
DTSTAMP:20260421T085558
CREATED:20251120T210548Z
LAST-MODIFIED:20251120T211532Z
UID:66831-1767862800-1767873600@isans.ca
SUMMARY:On-site Computer Training
DESCRIPTION:Would you like to improve your computer skills? You can register for the following computer courses: \nAccelerated Word\nJan 6-Jan 9\, 4 classes\, 3 hours\nEveryday\, 9 AM –12 PM \nOutlook I\nJan 12-Jan 13\, 2 classes\, 2 hours\nMonday\, Tuesday\, 10 AM –12 PM \nLinkedIn\nJan 22-Jan 23\, 2 classes\, 2 hours\nThursday\, Friday\, 10 AM –12 PM \nAccelerated Excel I\nJan 26-Jan 28\, 4 classes\, 3 hours\nEveryday\, 9 AM – 12 PM \nAI\nFeb 25-Feb 26\, 2 classes\, 2 hours\nWednesday\, Thursday\, 10 AM – 12 PM \nGoogle Docs\nMar 10-Mar 18\, 6 classes\, 2 hours\nEveryday\, 1:15 PM – 3:15 PM \nBasic Computer\nMar 19-Mar 25\, 5 classes\, 2 hours\nEveryday\, 10 AM – 12 PM \nKeyboarding\nMar 26- Mar 31\, 4 classes\, 2 hours\nEveryday\, 1:15 PM – 3:15 PM \n\nFor more information\, please contact: Basam Tahoor  |  902-406-4089 |  computerskills@isans.ca
URL:https://isans.ca/event/on-site-computer-training-2/2026-01-08/
LOCATION:ISANS Mumford\, 6960 Mumford Road\, Suite 2120\, Halifax\, B3L4P1
CATEGORIES:Employment
END:VEVENT
BEGIN:VEVENT
DTSTART;TZID=America/Halifax:20260109T090000
DTEND;TZID=America/Halifax:20260109T120000
DTSTAMP:20260421T085558
CREATED:20251120T210548Z
LAST-MODIFIED:20251120T211533Z
UID:66832-1767949200-1767960000@isans.ca
SUMMARY:On-site Computer Training
DESCRIPTION:Would you like to improve your computer skills? You can register for the following computer courses: \nAccelerated Word\nJan 6-Jan 9\, 4 classes\, 3 hours\nEveryday\, 9 AM –12 PM \nOutlook I\nJan 12-Jan 13\, 2 classes\, 2 hours\nMonday\, Tuesday\, 10 AM –12 PM \nLinkedIn\nJan 22-Jan 23\, 2 classes\, 2 hours\nThursday\, Friday\, 10 AM –12 PM \nAccelerated Excel I\nJan 26-Jan 28\, 4 classes\, 3 hours\nEveryday\, 9 AM – 12 PM \nAI\nFeb 25-Feb 26\, 2 classes\, 2 hours\nWednesday\, Thursday\, 10 AM – 12 PM \nGoogle Docs\nMar 10-Mar 18\, 6 classes\, 2 hours\nEveryday\, 1:15 PM – 3:15 PM \nBasic Computer\nMar 19-Mar 25\, 5 classes\, 2 hours\nEveryday\, 10 AM – 12 PM \nKeyboarding\nMar 26- Mar 31\, 4 classes\, 2 hours\nEveryday\, 1:15 PM – 3:15 PM \n\nFor more information\, please contact: Basam Tahoor  |  902-406-4089 |  computerskills@isans.ca
URL:https://isans.ca/event/on-site-computer-training-2/2026-01-09/
LOCATION:ISANS Mumford\, 6960 Mumford Road\, Suite 2120\, Halifax\, B3L4P1
CATEGORIES:Employment
END:VEVENT
BEGIN:VEVENT
DTSTART;TZID=America/Halifax:20260112T100000
DTEND;TZID=America/Halifax:20260112T120000
DTSTAMP:20260421T085558
CREATED:20251120T210548Z
LAST-MODIFIED:20251120T211533Z
UID:66833-1768212000-1768219200@isans.ca
SUMMARY:On-site Computer Training
DESCRIPTION:Would you like to improve your computer skills? You can register for the following computer courses: \nAccelerated Word\nJan 6-Jan 9\, 4 classes\, 3 hours\nEveryday\, 9 AM –12 PM \nOutlook I\nJan 12-Jan 13\, 2 classes\, 2 hours\nMonday\, Tuesday\, 10 AM –12 PM \nLinkedIn\nJan 22-Jan 23\, 2 classes\, 2 hours\nThursday\, Friday\, 10 AM –12 PM \nAccelerated Excel I\nJan 26-Jan 28\, 4 classes\, 3 hours\nEveryday\, 9 AM – 12 PM \nAI\nFeb 25-Feb 26\, 2 classes\, 2 hours\nWednesday\, Thursday\, 10 AM – 12 PM \nGoogle Docs\nMar 10-Mar 18\, 6 classes\, 2 hours\nEveryday\, 1:15 PM – 3:15 PM \nBasic Computer\nMar 19-Mar 25\, 5 classes\, 2 hours\nEveryday\, 10 AM – 12 PM \nKeyboarding\nMar 26- Mar 31\, 4 classes\, 2 hours\nEveryday\, 1:15 PM – 3:15 PM \n\nFor more information\, please contact: Basam Tahoor  |  902-406-4089 |  computerskills@isans.ca
URL:https://isans.ca/event/on-site-computer-training-2/2026-01-12/
LOCATION:ISANS Mumford\, 6960 Mumford Road\, Suite 2120\, Halifax\, B3L4P1
CATEGORIES:Employment
END:VEVENT
BEGIN:VEVENT
DTSTART;TZID=America/Halifax:20260113T100000
DTEND;TZID=America/Halifax:20260113T120000
DTSTAMP:20260421T085558
CREATED:20251120T210548Z
LAST-MODIFIED:20251120T211534Z
UID:66834-1768298400-1768305600@isans.ca
SUMMARY:On-site Computer Training
DESCRIPTION:Would you like to improve your computer skills? You can register for the following computer courses: \nAccelerated Word\nJan 6-Jan 9\, 4 classes\, 3 hours\nEveryday\, 9 AM –12 PM \nOutlook I\nJan 12-Jan 13\, 2 classes\, 2 hours\nMonday\, Tuesday\, 10 AM –12 PM \nLinkedIn\nJan 22-Jan 23\, 2 classes\, 2 hours\nThursday\, Friday\, 10 AM –12 PM \nAccelerated Excel I\nJan 26-Jan 28\, 4 classes\, 3 hours\nEveryday\, 9 AM – 12 PM \nAI\nFeb 25-Feb 26\, 2 classes\, 2 hours\nWednesday\, Thursday\, 10 AM – 12 PM \nGoogle Docs\nMar 10-Mar 18\, 6 classes\, 2 hours\nEveryday\, 1:15 PM – 3:15 PM \nBasic Computer\nMar 19-Mar 25\, 5 classes\, 2 hours\nEveryday\, 10 AM – 12 PM \nKeyboarding\nMar 26- Mar 31\, 4 classes\, 2 hours\nEveryday\, 1:15 PM – 3:15 PM \n\nFor more information\, please contact: Basam Tahoor  |  902-406-4089 |  computerskills@isans.ca
URL:https://isans.ca/event/on-site-computer-training-2/2026-01-13/
LOCATION:ISANS Mumford\, 6960 Mumford Road\, Suite 2120\, Halifax\, B3L4P1
CATEGORIES:Employment
END:VEVENT
BEGIN:VEVENT
DTSTART;TZID=America/Halifax:20260114T180000
DTEND;TZID=America/Halifax:20260114T200000
DTSTAMP:20260421T085558
CREATED:20251120T201648Z
LAST-MODIFIED:20251120T201648Z
UID:66813-1768413600-1768420800@isans.ca
SUMMARY:Online Computer Training
DESCRIPTION:Would you like to improve your computer skills? You can register for the following computer courses: \n\nOutlook II\nJan 14- Jan 15\, 2 classes\, 2 hours\nWednesday\, Thursday\, 6 PM –8 PM \nPowerPoint\nJan 16-Jan 21\, 4 classes\, 2 hours\nEveryday\, 6PM – 8PM \nLinkedIn\nFeb 23-Feb 24\, 2 classes\, 2 hours\nMonday\, Tuesday\, 1:15 PM – 3:15 PM \nExcel II\nMar 2-Mar 9\, 6 classes\, 2 hours\nEveryday\, 10 AM – 12 PM \n\nFor more information\, please contact:\nBasam Tahoor | 902-406-4089 | computerskills@isans.ca
URL:https://isans.ca/event/online-computer-training-2-2/2026-01-14/
LOCATION:Online
CATEGORIES:Employment
END:VEVENT
BEGIN:VEVENT
DTSTART;TZID=America/Halifax:20260115T130000
DTEND;TZID=America/Halifax:20260115T160000
DTSTAMP:20260421T085558
CREATED:20251223T181125Z
LAST-MODIFIED:20260317T005359Z
UID:67348-1768482000-1768492800@isans.ca
SUMMARY:Job Search Resource Centre
DESCRIPTION:Build your career skills and take the next step toward success! \nUpcoming Workshops: \nJanuary 2026 \n\nResume Writing and Cover Letter Writing – January 15\, 2026\nJob Fair Preparation – January 29\, 2026\n\nFebruary 2026 \n\nKeyword Optimization & ATS: Job Scan Tool  – February 12\, 2026\nLinkedIn and Best Practices – February 26\, 2026\n\nMarch 2026 \n\nResume Writing and Cover Letter Writing – March 5\, 2026\nJob Fair Preparation – March 6\, 2026\nProfessional Etiquette & Workplace Communication – March 12\, 2026\nInterview Preparation and Best Practices – March 26\, 2026\n\nApril 2026 \n\nJob Fair Preparation – April 9\, 2026\nResume Writing and Cover Letter Writing – April 22\, 2026\n\nMay 2026 \n\nJob Fair Preparation – May 7\, 2026\nLinkedIn and Best Practices – May 20\, 2026\n\nJune 2026 \n\nInterview Preparation and Best Practices – June 11\, 2026\nKeyword Optimization & ATS: Job Scan Tool – June 25\, 2026\n\nEligibility: \n\n\n\nBe an ISANS client.\nHave a Canadian Language Benchmark (CLB) level of 4+\n\n\n\nFor more information and register\, please contact:\nRanjit Singh | 902-482-4373 | rsingh@isans.ca
URL:https://isans.ca/event/job-search-resource-centre-3/2026-01-15/
LOCATION:ISANS Desmond\, 7071 Bayers Road\, Suite 164 (Desmond Avenue entrance)
CATEGORIES:Employment
GEO:44.6558793;-63.6258569
X-APPLE-STRUCTURED-LOCATION;VALUE=URI;X-ADDRESS=ISANS Desmond 7071 Bayers Road Suite 164 (Desmond Avenue entrance);X-APPLE-RADIUS=500;X-TITLE=7071 Bayers Road\, Suite 164 (Desmond Avenue entrance):geo:-63.6258569,44.6558793
END:VEVENT
BEGIN:VEVENT
DTSTART;TZID=America/Halifax:20260115T180000
DTEND;TZID=America/Halifax:20260115T200000
DTSTAMP:20260421T085558
CREATED:20251120T201648Z
LAST-MODIFIED:20251120T201648Z
UID:66814-1768500000-1768507200@isans.ca
SUMMARY:Online Computer Training
DESCRIPTION:Would you like to improve your computer skills? You can register for the following computer courses: \n\nOutlook II\nJan 14- Jan 15\, 2 classes\, 2 hours\nWednesday\, Thursday\, 6 PM –8 PM \nPowerPoint\nJan 16-Jan 21\, 4 classes\, 2 hours\nEveryday\, 6PM – 8PM \nLinkedIn\nFeb 23-Feb 24\, 2 classes\, 2 hours\nMonday\, Tuesday\, 1:15 PM – 3:15 PM \nExcel II\nMar 2-Mar 9\, 6 classes\, 2 hours\nEveryday\, 10 AM – 12 PM \n\nFor more information\, please contact:\nBasam Tahoor | 902-406-4089 | computerskills@isans.ca
URL:https://isans.ca/event/online-computer-training-2-2/2026-01-15/
LOCATION:Online
CATEGORIES:Employment
END:VEVENT
BEGIN:VEVENT
DTSTART;TZID=America/Halifax:20260116T133000
DTEND;TZID=America/Halifax:20260116T150000
DTSTAMP:20260421T085558
CREATED:20251223T185629Z
LAST-MODIFIED:20260317T003752Z
UID:67368-1768570200-1768575600@isans.ca
SUMMARY:Job Seekers Hub
DESCRIPTION:Monthly Series: Friday\, 1.30 pm – 3.00 pm \nCareer Transition and Transferable skills – January 16\, 2026 \nHow to connect with employers – February 13\, 2026 \nHow to improve communication skills while job searching – March 13\, 2026 \nExpanding your network & Rebuilding Confidence after a career break – April 10\, 2026 \nCareer Transition and Transferable skills – May 15\, 2026 \nHow to connect with employers – June 19\, 2026
URL:https://isans.ca/event/job-seekers-hub/2026-01-16/
LOCATION:ISANS Desmond\, 7071 Bayers Road\, Suite 164 (Desmond Avenue entrance)
CATEGORIES:Employment
GEO:44.6558793;-63.6258569
X-APPLE-STRUCTURED-LOCATION;VALUE=URI;X-ADDRESS=ISANS Desmond 7071 Bayers Road Suite 164 (Desmond Avenue entrance);X-APPLE-RADIUS=500;X-TITLE=7071 Bayers Road\, Suite 164 (Desmond Avenue entrance):geo:-63.6258569,44.6558793
END:VEVENT
BEGIN:VEVENT
DTSTART;TZID=America/Halifax:20260116T180000
DTEND;TZID=America/Halifax:20260116T200000
DTSTAMP:20260421T085558
CREATED:20251120T201648Z
LAST-MODIFIED:20251120T201648Z
UID:66815-1768586400-1768593600@isans.ca
SUMMARY:Online Computer Training
DESCRIPTION:Would you like to improve your computer skills? You can register for the following computer courses: \n\nOutlook II\nJan 14- Jan 15\, 2 classes\, 2 hours\nWednesday\, Thursday\, 6 PM –8 PM \nPowerPoint\nJan 16-Jan 21\, 4 classes\, 2 hours\nEveryday\, 6PM – 8PM \nLinkedIn\nFeb 23-Feb 24\, 2 classes\, 2 hours\nMonday\, Tuesday\, 1:15 PM – 3:15 PM \nExcel II\nMar 2-Mar 9\, 6 classes\, 2 hours\nEveryday\, 10 AM – 12 PM \n\nFor more information\, please contact:\nBasam Tahoor | 902-406-4089 | computerskills@isans.ca
URL:https://isans.ca/event/online-computer-training-2-2/2026-01-16/
LOCATION:Online
CATEGORIES:Employment
END:VEVENT
BEGIN:VEVENT
DTSTART;TZID=America/Halifax:20260119T180000
DTEND;TZID=America/Halifax:20260119T200000
DTSTAMP:20260421T085558
CREATED:20251120T201648Z
LAST-MODIFIED:20251120T201648Z
UID:66816-1768845600-1768852800@isans.ca
SUMMARY:Online Computer Training
DESCRIPTION:Would you like to improve your computer skills? You can register for the following computer courses: \n\nOutlook II\nJan 14- Jan 15\, 2 classes\, 2 hours\nWednesday\, Thursday\, 6 PM –8 PM \nPowerPoint\nJan 16-Jan 21\, 4 classes\, 2 hours\nEveryday\, 6PM – 8PM \nLinkedIn\nFeb 23-Feb 24\, 2 classes\, 2 hours\nMonday\, Tuesday\, 1:15 PM – 3:15 PM \nExcel II\nMar 2-Mar 9\, 6 classes\, 2 hours\nEveryday\, 10 AM – 12 PM \n\nFor more information\, please contact:\nBasam Tahoor | 902-406-4089 | computerskills@isans.ca
URL:https://isans.ca/event/online-computer-training-2-2/2026-01-19/
LOCATION:Online
CATEGORIES:Employment
END:VEVENT
BEGIN:VEVENT
DTSTART;TZID=America/Halifax:20260120T180000
DTEND;TZID=America/Halifax:20260120T200000
DTSTAMP:20260421T085558
CREATED:20251120T201648Z
LAST-MODIFIED:20251120T201648Z
UID:66817-1768932000-1768939200@isans.ca
SUMMARY:Online Computer Training
DESCRIPTION:Would you like to improve your computer skills? You can register for the following computer courses: \n\nOutlook II\nJan 14- Jan 15\, 2 classes\, 2 hours\nWednesday\, Thursday\, 6 PM –8 PM \nPowerPoint\nJan 16-Jan 21\, 4 classes\, 2 hours\nEveryday\, 6PM – 8PM \nLinkedIn\nFeb 23-Feb 24\, 2 classes\, 2 hours\nMonday\, Tuesday\, 1:15 PM – 3:15 PM \nExcel II\nMar 2-Mar 9\, 6 classes\, 2 hours\nEveryday\, 10 AM – 12 PM \n\nFor more information\, please contact:\nBasam Tahoor | 902-406-4089 | computerskills@isans.ca
URL:https://isans.ca/event/online-computer-training-2-2/2026-01-20/
LOCATION:Online
CATEGORIES:Employment
END:VEVENT
BEGIN:VEVENT
DTSTART;TZID=America/Halifax:20260121T180000
DTEND;TZID=America/Halifax:20260121T200000
DTSTAMP:20260421T085558
CREATED:20251120T201648Z
LAST-MODIFIED:20251120T201648Z
UID:66818-1769018400-1769025600@isans.ca
SUMMARY:Online Computer Training
DESCRIPTION:Would you like to improve your computer skills? You can register for the following computer courses: \n\nOutlook II\nJan 14- Jan 15\, 2 classes\, 2 hours\nWednesday\, Thursday\, 6 PM –8 PM \nPowerPoint\nJan 16-Jan 21\, 4 classes\, 2 hours\nEveryday\, 6PM – 8PM \nLinkedIn\nFeb 23-Feb 24\, 2 classes\, 2 hours\nMonday\, Tuesday\, 1:15 PM – 3:15 PM \nExcel II\nMar 2-Mar 9\, 6 classes\, 2 hours\nEveryday\, 10 AM – 12 PM \n\nFor more information\, please contact:\nBasam Tahoor | 902-406-4089 | computerskills@isans.ca
URL:https://isans.ca/event/online-computer-training-2-2/2026-01-21/
LOCATION:Online
CATEGORIES:Employment
END:VEVENT
BEGIN:VEVENT
DTSTART;TZID=America/Halifax:20260122T100000
DTEND;TZID=America/Halifax:20260122T120000
DTSTAMP:20260421T085558
CREATED:20251120T210548Z
LAST-MODIFIED:20251120T211535Z
UID:66835-1769076000-1769083200@isans.ca
SUMMARY:On-site Computer Training
DESCRIPTION:Would you like to improve your computer skills? You can register for the following computer courses: \nAccelerated Word\nJan 6-Jan 9\, 4 classes\, 3 hours\nEveryday\, 9 AM –12 PM \nOutlook I\nJan 12-Jan 13\, 2 classes\, 2 hours\nMonday\, Tuesday\, 10 AM –12 PM \nLinkedIn\nJan 22-Jan 23\, 2 classes\, 2 hours\nThursday\, Friday\, 10 AM –12 PM \nAccelerated Excel I\nJan 26-Jan 28\, 4 classes\, 3 hours\nEveryday\, 9 AM – 12 PM \nAI\nFeb 25-Feb 26\, 2 classes\, 2 hours\nWednesday\, Thursday\, 10 AM – 12 PM \nGoogle Docs\nMar 10-Mar 18\, 6 classes\, 2 hours\nEveryday\, 1:15 PM – 3:15 PM \nBasic Computer\nMar 19-Mar 25\, 5 classes\, 2 hours\nEveryday\, 10 AM – 12 PM \nKeyboarding\nMar 26- Mar 31\, 4 classes\, 2 hours\nEveryday\, 1:15 PM – 3:15 PM \n\nFor more information\, please contact: Basam Tahoor  |  902-406-4089 |  computerskills@isans.ca
URL:https://isans.ca/event/on-site-computer-training-2/2026-01-22/
LOCATION:ISANS Mumford\, 6960 Mumford Road\, Suite 2120\, Halifax\, B3L4P1
CATEGORIES:Employment
END:VEVENT
BEGIN:VEVENT
DTSTART;TZID=America/Halifax:20260122T130000
DTEND;TZID=America/Halifax:20260122T160000
DTSTAMP:20260421T085558
CREATED:20251223T181125Z
LAST-MODIFIED:20251223T181125Z
UID:68794-1769086800-1769097600@isans.ca
SUMMARY:Job Search Resource Centre
DESCRIPTION:Build your career skills and take the next step toward success! \nUpcoming Workshops: \nJanuary 2026 \n\nResume Writing and Cover Letter Writing – January 15\, 2026\nJob Fair Preparation – January 29\, 2026\n\nFebruary 2026 \n\nKeyword Optimization & ATS: Job Scan Tool  – February 12\, 2026\nLinkedIn and Best Practices – February 26\, 2026\n\nMarch 2026 \n\nResume Writing and Cover Letter Writing – March 5\, 2026\nJob Fair Preparation – March 6\, 2026\nProfessional Etiquette & Workplace Communication – March 12\, 2026\nInterview Preparation and Best Practices – March 26\, 2026\n\nApril 2026 \n\nJob Fair Preparation – April 9\, 2026\nResume Writing and Cover Letter Writing – April 22\, 2026\n\nMay 2026 \n\nJob Fair Preparation – May 7\, 2026\nLinkedIn and Best Practices – May 20\, 2026\n\nJune 2026 \n\nInterview Preparation and Best Practices – June 11\, 2026\nKeyword Optimization & ATS: Job Scan Tool – June 25\, 2026\n\nEligibility: \n\n\n\nBe an ISANS client.\nHave a Canadian Language Benchmark (CLB) level of 4+\n\n\n\nFor more information and register\, please contact:\nRanjit Singh | 902-482-4373 | rsingh@isans.ca
URL:https://isans.ca/event/job-search-resource-centre-3/2026-01-22/
LOCATION:ISANS Desmond\, 7071 Bayers Road\, Suite 164 (Desmond Avenue entrance)
CATEGORIES:Employment
GEO:44.6558793;-63.6258569
X-APPLE-STRUCTURED-LOCATION;VALUE=URI;X-ADDRESS=ISANS Desmond 7071 Bayers Road Suite 164 (Desmond Avenue entrance);X-APPLE-RADIUS=500;X-TITLE=7071 Bayers Road\, Suite 164 (Desmond Avenue entrance):geo:-63.6258569,44.6558793
END:VEVENT
BEGIN:VEVENT
DTSTART;TZID=America/Halifax:20260123T100000
DTEND;TZID=America/Halifax:20260123T120000
DTSTAMP:20260421T085558
CREATED:20251120T210548Z
LAST-MODIFIED:20251120T211536Z
UID:66836-1769162400-1769169600@isans.ca
SUMMARY:On-site Computer Training
DESCRIPTION:Would you like to improve your computer skills? You can register for the following computer courses: \nAccelerated Word\nJan 6-Jan 9\, 4 classes\, 3 hours\nEveryday\, 9 AM –12 PM \nOutlook I\nJan 12-Jan 13\, 2 classes\, 2 hours\nMonday\, Tuesday\, 10 AM –12 PM \nLinkedIn\nJan 22-Jan 23\, 2 classes\, 2 hours\nThursday\, Friday\, 10 AM –12 PM \nAccelerated Excel I\nJan 26-Jan 28\, 4 classes\, 3 hours\nEveryday\, 9 AM – 12 PM \nAI\nFeb 25-Feb 26\, 2 classes\, 2 hours\nWednesday\, Thursday\, 10 AM – 12 PM \nGoogle Docs\nMar 10-Mar 18\, 6 classes\, 2 hours\nEveryday\, 1:15 PM – 3:15 PM \nBasic Computer\nMar 19-Mar 25\, 5 classes\, 2 hours\nEveryday\, 10 AM – 12 PM \nKeyboarding\nMar 26- Mar 31\, 4 classes\, 2 hours\nEveryday\, 1:15 PM – 3:15 PM \n\nFor more information\, please contact: Basam Tahoor  |  902-406-4089 |  computerskills@isans.ca
URL:https://isans.ca/event/on-site-computer-training-2/2026-01-23/
LOCATION:ISANS Mumford\, 6960 Mumford Road\, Suite 2120\, Halifax\, B3L4P1
CATEGORIES:Employment
END:VEVENT
BEGIN:VEVENT
DTSTART;TZID=America/Halifax:20260126T090000
DTEND;TZID=America/Halifax:20260126T120000
DTSTAMP:20260421T085558
CREATED:20251120T210548Z
LAST-MODIFIED:20251120T211536Z
UID:66837-1769418000-1769428800@isans.ca
SUMMARY:On-site Computer Training
DESCRIPTION:Would you like to improve your computer skills? You can register for the following computer courses: \nAccelerated Word\nJan 6-Jan 9\, 4 classes\, 3 hours\nEveryday\, 9 AM –12 PM \nOutlook I\nJan 12-Jan 13\, 2 classes\, 2 hours\nMonday\, Tuesday\, 10 AM –12 PM \nLinkedIn\nJan 22-Jan 23\, 2 classes\, 2 hours\nThursday\, Friday\, 10 AM –12 PM \nAccelerated Excel I\nJan 26-Jan 28\, 4 classes\, 3 hours\nEveryday\, 9 AM – 12 PM \nAI\nFeb 25-Feb 26\, 2 classes\, 2 hours\nWednesday\, Thursday\, 10 AM – 12 PM \nGoogle Docs\nMar 10-Mar 18\, 6 classes\, 2 hours\nEveryday\, 1:15 PM – 3:15 PM \nBasic Computer\nMar 19-Mar 25\, 5 classes\, 2 hours\nEveryday\, 10 AM – 12 PM \nKeyboarding\nMar 26- Mar 31\, 4 classes\, 2 hours\nEveryday\, 1:15 PM – 3:15 PM \n\nFor more information\, please contact: Basam Tahoor  |  902-406-4089 |  computerskills@isans.ca
URL:https://isans.ca/event/on-site-computer-training-2/2026-01-26/
LOCATION:ISANS Mumford\, 6960 Mumford Road\, Suite 2120\, Halifax\, B3L4P1
CATEGORIES:Employment
END:VEVENT
BEGIN:VEVENT
DTSTART;TZID=America/Halifax:20260127T090000
DTEND;TZID=America/Halifax:20260127T120000
DTSTAMP:20260421T085558
CREATED:20251120T210548Z
LAST-MODIFIED:20251120T211537Z
UID:66838-1769504400-1769515200@isans.ca
SUMMARY:On-site Computer Training
DESCRIPTION:Would you like to improve your computer skills? You can register for the following computer courses: \nAccelerated Word\nJan 6-Jan 9\, 4 classes\, 3 hours\nEveryday\, 9 AM –12 PM \nOutlook I\nJan 12-Jan 13\, 2 classes\, 2 hours\nMonday\, Tuesday\, 10 AM –12 PM \nLinkedIn\nJan 22-Jan 23\, 2 classes\, 2 hours\nThursday\, Friday\, 10 AM –12 PM \nAccelerated Excel I\nJan 26-Jan 28\, 4 classes\, 3 hours\nEveryday\, 9 AM – 12 PM \nAI\nFeb 25-Feb 26\, 2 classes\, 2 hours\nWednesday\, Thursday\, 10 AM – 12 PM \nGoogle Docs\nMar 10-Mar 18\, 6 classes\, 2 hours\nEveryday\, 1:15 PM – 3:15 PM \nBasic Computer\nMar 19-Mar 25\, 5 classes\, 2 hours\nEveryday\, 10 AM – 12 PM \nKeyboarding\nMar 26- Mar 31\, 4 classes\, 2 hours\nEveryday\, 1:15 PM – 3:15 PM \n\nFor more information\, please contact: Basam Tahoor  |  902-406-4089 |  computerskills@isans.ca
URL:https://isans.ca/event/on-site-computer-training-2/2026-01-27/
LOCATION:ISANS Mumford\, 6960 Mumford Road\, Suite 2120\, Halifax\, B3L4P1
CATEGORIES:Employment
END:VEVENT
BEGIN:VEVENT
DTSTART;TZID=America/Halifax:20260128T083000
DTEND;TZID=America/Halifax:20260128T163000
DTSTAMP:20260421T085558
CREATED:20260127T164624Z
LAST-MODIFIED:20260127T164624Z
UID:68415-1769589000-1769617800@isans.ca
SUMMARY:Job Search Resource Centre (JSRC) Closure
DESCRIPTION:The Job Search Resource Centre(JSRC) at ISANS Desmond will be closed on January 28\, 2026. Regular operations will resume on January 29.
URL:https://isans.ca/event/job-search-resource-centre-jsrc-closure-2/
LOCATION:ISANS Desmond\, 7071 Bayers Road\, Suite 164 (Desmond Avenue entrance)
CATEGORIES:Employment
GEO:44.6558793;-63.6258569
X-APPLE-STRUCTURED-LOCATION;VALUE=URI;X-ADDRESS=ISANS Desmond 7071 Bayers Road Suite 164 (Desmond Avenue entrance);X-APPLE-RADIUS=500;X-TITLE=7071 Bayers Road\, Suite 164 (Desmond Avenue entrance):geo:-63.6258569,44.6558793
END:VEVENT
BEGIN:VEVENT
DTSTART;TZID=America/Halifax:20260128T090000
DTEND;TZID=America/Halifax:20260128T120000
DTSTAMP:20260421T085558
CREATED:20251120T210548Z
LAST-MODIFIED:20251120T211538Z
UID:66839-1769590800-1769601600@isans.ca
SUMMARY:On-site Computer Training
DESCRIPTION:Would you like to improve your computer skills? You can register for the following computer courses: \nAccelerated Word\nJan 6-Jan 9\, 4 classes\, 3 hours\nEveryday\, 9 AM –12 PM \nOutlook I\nJan 12-Jan 13\, 2 classes\, 2 hours\nMonday\, Tuesday\, 10 AM –12 PM \nLinkedIn\nJan 22-Jan 23\, 2 classes\, 2 hours\nThursday\, Friday\, 10 AM –12 PM \nAccelerated Excel I\nJan 26-Jan 28\, 4 classes\, 3 hours\nEveryday\, 9 AM – 12 PM \nAI\nFeb 25-Feb 26\, 2 classes\, 2 hours\nWednesday\, Thursday\, 10 AM – 12 PM \nGoogle Docs\nMar 10-Mar 18\, 6 classes\, 2 hours\nEveryday\, 1:15 PM – 3:15 PM \nBasic Computer\nMar 19-Mar 25\, 5 classes\, 2 hours\nEveryday\, 10 AM – 12 PM \nKeyboarding\nMar 26- Mar 31\, 4 classes\, 2 hours\nEveryday\, 1:15 PM – 3:15 PM \n\nFor more information\, please contact: Basam Tahoor  |  902-406-4089 |  computerskills@isans.ca
URL:https://isans.ca/event/on-site-computer-training-2/2026-01-28/
LOCATION:ISANS Mumford\, 6960 Mumford Road\, Suite 2120\, Halifax\, B3L4P1
CATEGORIES:Employment
END:VEVENT
BEGIN:VEVENT
DTSTART;TZID=America/Halifax:20260129T130000
DTEND;TZID=America/Halifax:20260129T160000
DTSTAMP:20260421T085558
CREATED:20251223T181125Z
LAST-MODIFIED:20260317T005433Z
UID:67362-1769691600-1769702400@isans.ca
SUMMARY:Job Search Resource Centre
DESCRIPTION:Build your career skills and take the next step toward success! \nUpcoming Workshops: \nJanuary 2026 \n\nResume Writing and Cover Letter Writing – January 15\, 2026\nJob Fair Preparation – January 29\, 2026\n\nFebruary 2026 \n\nKeyword Optimization & ATS: Job Scan Tool  – February 12\, 2026\nLinkedIn and Best Practices – February 26\, 2026\n\nMarch 2026 \n\nResume Writing and Cover Letter Writing – March 5\, 2026\nJob Fair Preparation – March 6\, 2026\nProfessional Etiquette & Workplace Communication – March 12\, 2026\nInterview Preparation and Best Practices – March 26\, 2026\n\nApril 2026 \n\nJob Fair Preparation – April 9\, 2026\nResume Writing and Cover Letter Writing – April 22\, 2026\n\nMay 2026 \n\nJob Fair Preparation – May 7\, 2026\nLinkedIn and Best Practices – May 20\, 2026\n\nJune 2026 \n\nInterview Preparation and Best Practices – June 11\, 2026\nKeyword Optimization & ATS: Job Scan Tool – June 25\, 2026\n\nEligibility: \n\n\n\nBe an ISANS client.\nHave a Canadian Language Benchmark (CLB) level of 4+\n\n\n\nFor more information and register\, please contact:\nRanjit Singh | 902-482-4373 | rsingh@isans.ca
URL:https://isans.ca/event/job-search-resource-centre-3/2026-01-29/
LOCATION:ISANS Desmond\, 7071 Bayers Road\, Suite 164 (Desmond Avenue entrance)
CATEGORIES:Employment
GEO:44.6558793;-63.6258569
X-APPLE-STRUCTURED-LOCATION;VALUE=URI;X-ADDRESS=ISANS Desmond 7071 Bayers Road Suite 164 (Desmond Avenue entrance);X-APPLE-RADIUS=500;X-TITLE=7071 Bayers Road\, Suite 164 (Desmond Avenue entrance):geo:-63.6258569,44.6558793
END:VEVENT
END:VCALENDAR