BEGIN:VCALENDAR
VERSION:2.0
PRODID:-//Immigrant Services Association of Nova Scotia - ECPv6.15.17.1//NONSGML v1.0//EN
CALSCALE:GREGORIAN
METHOD:PUBLISH
X-WR-CALNAME:Immigrant Services Association of Nova Scotia
X-ORIGINAL-URL:https://isans.ca
X-WR-CALDESC:Events for Immigrant Services Association of Nova Scotia
REFRESH-INTERVAL;VALUE=DURATION:PT1H
X-Robots-Tag:noindex
X-PUBLISHED-TTL:PT1H
BEGIN:VTIMEZONE
TZID:America/Halifax
BEGIN:DAYLIGHT
TZOFFSETFROM:-0400
TZOFFSETTO:-0300
TZNAME:ADT
DTSTART:20250309T060000
END:DAYLIGHT
BEGIN:STANDARD
TZOFFSETFROM:-0300
TZOFFSETTO:-0400
TZNAME:AST
DTSTART:20251102T050000
END:STANDARD
BEGIN:DAYLIGHT
TZOFFSETFROM:-0400
TZOFFSETTO:-0300
TZNAME:ADT
DTSTART:20260308T060000
END:DAYLIGHT
BEGIN:STANDARD
TZOFFSETFROM:-0300
TZOFFSETTO:-0400
TZNAME:AST
DTSTART:20261101T050000
END:STANDARD
BEGIN:DAYLIGHT
TZOFFSETFROM:-0400
TZOFFSETTO:-0300
TZNAME:ADT
DTSTART:20270314T060000
END:DAYLIGHT
BEGIN:STANDARD
TZOFFSETFROM:-0300
TZOFFSETTO:-0400
TZNAME:AST
DTSTART:20271107T050000
END:STANDARD
END:VTIMEZONE
BEGIN:VEVENT
DTSTART;TZID=America/Halifax:20260629T100000
DTEND;TZID=America/Halifax:20260629T120000
DTSTAMP:20260422T082232
CREATED:20260327T160316Z
LAST-MODIFIED:20260327T160316Z
UID:68893-1782727200-1782734400@isans.ca
SUMMARY:On-site Computer Training
DESCRIPTION:Would you like to improve your computer skills? You can register for the following computer courses: \nMS Word\nApr 13- Apr 20\, 6 classes\, 2 hours\nEveryday\, 10 AM –12 PM \nPowerPoint\nMay 4- May 7\, 4 classes\, 2 hours\nEveryday\, 1:15 pm- 3:15pm \nGoogle Sheets\nMay 8- May 15\, 6 classes\, 2 hours\nEveryday 1:15 PM – 3:15 PM \nLinkedIn\nMay 19- May 20\, 2 classes\, 2 hours\nTuesday\, Wednesday 1:15 PM – 3:15 PM \nGoogle Docs\nMay 21- May 28\, 6 classes\, 2 hours\nEveryday 1:15 PM – 3:15 PM \nBasic Computer\nJun 1- Jun 5\, 5 classes\, 2 hours\nEveryday 10 AM–12 PM \nKeyboarding\nJun 10- Jun15\, 4 classes\, 2 hours\nEveryday 10 AM–12 PM \nOutlook II\nJun 16- Jun 17\, 2 classes\, 2 hours\nTuesday\, Wednesday\n10 AM–12 PM \nAI\nJun 18- Jun 19\, 2 classes\, 2 hours\nThursday\, Friday 10 AM –12 PM \nExcel II\nJun 22- Jun 29\, 6 classes\, 2 hours\nEveryday 10 AM–12 PM \n\nFor more information\, please contact: Basam Tahoor  |  902-406-4089 |  computerskills@isans.ca
URL:https://isans.ca/event/on-site-computer-training-3/2026-06-29/
LOCATION:ISANS Mumford\, 6960 Mumford Road\, Suite 2120\, Halifax\, B3L4P1
CATEGORIES:Employment
END:VEVENT
END:VCALENDAR