BEGIN:VCALENDAR
VERSION:2.0
PRODID:-//Immigrant Services Association of Nova Scotia - ECPv6.15.17.1//NONSGML v1.0//EN
CALSCALE:GREGORIAN
METHOD:PUBLISH
X-ORIGINAL-URL:https://isans.ca
X-WR-CALDESC:Events for Immigrant Services Association of Nova Scotia
REFRESH-INTERVAL;VALUE=DURATION:PT1H
X-Robots-Tag:noindex
X-PUBLISHED-TTL:PT1H
BEGIN:VTIMEZONE
TZID:America/Halifax
BEGIN:DAYLIGHT
TZOFFSETFROM:-0400
TZOFFSETTO:-0300
TZNAME:ADT
DTSTART:20240310T060000
END:DAYLIGHT
BEGIN:STANDARD
TZOFFSETFROM:-0300
TZOFFSETTO:-0400
TZNAME:AST
DTSTART:20241103T050000
END:STANDARD
BEGIN:DAYLIGHT
TZOFFSETFROM:-0400
TZOFFSETTO:-0300
TZNAME:ADT
DTSTART:20250309T060000
END:DAYLIGHT
BEGIN:STANDARD
TZOFFSETFROM:-0300
TZOFFSETTO:-0400
TZNAME:AST
DTSTART:20251102T050000
END:STANDARD
BEGIN:DAYLIGHT
TZOFFSETFROM:-0400
TZOFFSETTO:-0300
TZNAME:ADT
DTSTART:20260308T060000
END:DAYLIGHT
BEGIN:STANDARD
TZOFFSETFROM:-0300
TZOFFSETTO:-0400
TZNAME:AST
DTSTART:20261101T050000
END:STANDARD
BEGIN:DAYLIGHT
TZOFFSETFROM:-0400
TZOFFSETTO:-0300
TZNAME:ADT
DTSTART:20270314T060000
END:DAYLIGHT
BEGIN:STANDARD
TZOFFSETFROM:-0300
TZOFFSETTO:-0400
TZNAME:AST
DTSTART:20271107T050000
END:STANDARD
END:VTIMEZONE
BEGIN:VEVENT
DTSTART;TZID=America/Halifax:20260210T180000
DTEND;TZID=America/Halifax:20260210T200000
DTSTAMP:20260419T172240
CREATED:20251204T152602Z
LAST-MODIFIED:20251204T152602Z
UID:67101-1770746400-1770753600@isans.ca
SUMMARY:Men's Wellness Group
DESCRIPTION:This group provides a confidential and respectful space for men to talk about stress\, adaptation\, identity\, and wellbeing. \nIt encourages open conversation\, emotional awareness\, and healthy coping strategies for men navigating change or challenges in their lives. \nFor more information or to participate\, please contact: arodriguez@isans.ca
URL:https://isans.ca/event/mens-wellness-group/2026-02-10/
LOCATION:ISANS Mumford\, 6960 Mumford Road\, Suite 2120\, Halifax\, B3L4P1
CATEGORIES:Settlement
END:VEVENT
BEGIN:VEVENT
DTSTART;TZID=America/Halifax:20260210T100000
DTEND;TZID=America/Halifax:20260210T120000
DTSTAMP:20260419T172240
CREATED:20251204T194125Z
LAST-MODIFIED:20251218T143902Z
UID:67093-1770717600-1770724800@isans.ca
SUMMARY:Workshop for parents
DESCRIPTION:How to support your child when life feels hard? \nCome and learn how to help your child feel confident and happy. Together\, we will explore how to create a safe\, stable\, and supportive home environment. \nIn this research-based program you will learn:  \n\nHow to help your child feel calm and more confident\nHow to continue to build trust with your child/ren\nHow to recognize symptoms of stress that might affect your child\nPractical strategies that you can use at home\n\nFor more information and participation\, please contact: aparra@isans.ca
URL:https://isans.ca/event/workshop-for-parents/2026-02-10/
LOCATION:ISANS Mumford\, 6960 Mumford Road\, Suite 2120\, Halifax\, B3L4P1
CATEGORIES:Settlement
END:VEVENT
BEGIN:VEVENT
DTSTART;TZID=America/Halifax:20260203T180000
DTEND;TZID=America/Halifax:20260203T200000
DTSTAMP:20260419T172240
CREATED:20251204T152602Z
LAST-MODIFIED:20251204T152602Z
UID:67100-1770141600-1770148800@isans.ca
SUMMARY:Men's Wellness Group
DESCRIPTION:This group provides a confidential and respectful space for men to talk about stress\, adaptation\, identity\, and wellbeing. \nIt encourages open conversation\, emotional awareness\, and healthy coping strategies for men navigating change or challenges in their lives. \nFor more information or to participate\, please contact: arodriguez@isans.ca
URL:https://isans.ca/event/mens-wellness-group/2026-02-03/
LOCATION:ISANS Mumford\, 6960 Mumford Road\, Suite 2120\, Halifax\, B3L4P1
CATEGORIES:Settlement
END:VEVENT
BEGIN:VEVENT
DTSTART;TZID=America/Halifax:20260203T100000
DTEND;TZID=America/Halifax:20260203T120000
DTSTAMP:20260419T172240
CREATED:20251204T194125Z
LAST-MODIFIED:20251218T143901Z
UID:67092-1770112800-1770120000@isans.ca
SUMMARY:Workshop for parents
DESCRIPTION:How to support your child when life feels hard? \nCome and learn how to help your child feel confident and happy. Together\, we will explore how to create a safe\, stable\, and supportive home environment. \nIn this research-based program you will learn:  \n\nHow to help your child feel calm and more confident\nHow to continue to build trust with your child/ren\nHow to recognize symptoms of stress that might affect your child\nPractical strategies that you can use at home\n\nFor more information and participation\, please contact: aparra@isans.ca
URL:https://isans.ca/event/workshop-for-parents/2026-02-03/
LOCATION:ISANS Mumford\, 6960 Mumford Road\, Suite 2120\, Halifax\, B3L4P1
CATEGORIES:Settlement
END:VEVENT
BEGIN:VEVENT
DTSTART;TZID=America/Halifax:20260127T180000
DTEND;TZID=America/Halifax:20260127T200000
DTSTAMP:20260419T172240
CREATED:20251204T152602Z
LAST-MODIFIED:20251204T152602Z
UID:67099-1769536800-1769544000@isans.ca
SUMMARY:Men's Wellness Group
DESCRIPTION:This group provides a confidential and respectful space for men to talk about stress\, adaptation\, identity\, and wellbeing. \nIt encourages open conversation\, emotional awareness\, and healthy coping strategies for men navigating change or challenges in their lives. \nFor more information or to participate\, please contact: arodriguez@isans.ca
URL:https://isans.ca/event/mens-wellness-group/2026-01-27/
LOCATION:ISANS Mumford\, 6960 Mumford Road\, Suite 2120\, Halifax\, B3L4P1
CATEGORIES:Settlement
END:VEVENT
BEGIN:VEVENT
DTSTART;TZID=America/Halifax:20260127T100000
DTEND;TZID=America/Halifax:20260127T120000
DTSTAMP:20260419T172240
CREATED:20251204T194125Z
LAST-MODIFIED:20251218T143901Z
UID:67089-1769508000-1769515200@isans.ca
SUMMARY:Workshop for parents
DESCRIPTION:How to support your child when life feels hard? \nCome and learn how to help your child feel confident and happy. Together\, we will explore how to create a safe\, stable\, and supportive home environment. \nIn this research-based program you will learn:  \n\nHow to help your child feel calm and more confident\nHow to continue to build trust with your child/ren\nHow to recognize symptoms of stress that might affect your child\nPractical strategies that you can use at home\n\nFor more information and participation\, please contact: aparra@isans.ca
URL:https://isans.ca/event/workshop-for-parents/2026-01-27/
LOCATION:ISANS Mumford\, 6960 Mumford Road\, Suite 2120\, Halifax\, B3L4P1
CATEGORIES:Settlement
END:VEVENT
BEGIN:VEVENT
DTSTART;TZID=America/Halifax:20260120T180000
DTEND;TZID=America/Halifax:20260120T200000
DTSTAMP:20260419T172240
CREATED:20251204T152602Z
LAST-MODIFIED:20251204T152602Z
UID:67098-1768932000-1768939200@isans.ca
SUMMARY:Men's Wellness Group
DESCRIPTION:This group provides a confidential and respectful space for men to talk about stress\, adaptation\, identity\, and wellbeing. \nIt encourages open conversation\, emotional awareness\, and healthy coping strategies for men navigating change or challenges in their lives. \nFor more information or to participate\, please contact: arodriguez@isans.ca
URL:https://isans.ca/event/mens-wellness-group/2026-01-20/
LOCATION:ISANS Mumford\, 6960 Mumford Road\, Suite 2120\, Halifax\, B3L4P1
CATEGORIES:Settlement
END:VEVENT
BEGIN:VEVENT
DTSTART;TZID=America/Halifax:20260113T180000
DTEND;TZID=America/Halifax:20260113T200000
DTSTAMP:20260419T172240
CREATED:20251204T152602Z
LAST-MODIFIED:20251204T152602Z
UID:67097-1768327200-1768334400@isans.ca
SUMMARY:Men's Wellness Group
DESCRIPTION:This group provides a confidential and respectful space for men to talk about stress\, adaptation\, identity\, and wellbeing. \nIt encourages open conversation\, emotional awareness\, and healthy coping strategies for men navigating change or challenges in their lives. \nFor more information or to participate\, please contact: arodriguez@isans.ca
URL:https://isans.ca/event/mens-wellness-group/2026-01-13/
LOCATION:ISANS Mumford\, 6960 Mumford Road\, Suite 2120\, Halifax\, B3L4P1
CATEGORIES:Settlement
END:VEVENT
BEGIN:VEVENT
DTSTART;TZID=America/Halifax:20260106T180000
DTEND;TZID=America/Halifax:20260106T200000
DTSTAMP:20260419T172240
CREATED:20251204T152602Z
LAST-MODIFIED:20251204T194659Z
UID:67067-1767722400-1767729600@isans.ca
SUMMARY:Men's Wellness Group
DESCRIPTION:This group provides a confidential and respectful space for men to talk about stress\, adaptation\, identity\, and wellbeing. \nIt encourages open conversation\, emotional awareness\, and healthy coping strategies for men navigating change or challenges in their lives. \nFor more information or to participate\, please contact: arodriguez@isans.ca
URL:https://isans.ca/event/mens-wellness-group/2026-01-06/
LOCATION:ISANS Mumford\, 6960 Mumford Road\, Suite 2120\, Halifax\, B3L4P1
CATEGORIES:Settlement
END:VEVENT
BEGIN:VEVENT
DTSTART;TZID=America/Halifax:20251217T170000
DTEND;TZID=America/Halifax:20251217T200000
DTSTAMP:20260419T172240
CREATED:20251204T153642Z
LAST-MODIFIED:20251204T153642Z
UID:67109-1765990800-1766001600@isans.ca
SUMMARY:Join the 2SLGBTQIA+ Wellness Group
DESCRIPTION:This group is facilitated by ISANS in collaboration with Rainbow Refugee Association of Nova Scotia (RRANS). \nThis group offers a safe\, inclusive\, and supportive space for 2SLGBTQIA+ newcomers and community members to connect\, share experiences\, and strengthen emotional wellbeing\, and mutual support in welcoming environment. \nFor more information or to participate\, please contact: arodriguez@isans.ca
URL:https://isans.ca/event/join-the-2slgbtqia-wellness-group/2025-12-17/
LOCATION:ISANS Mumford\, 6960 Mumford Road\, Suite 2120\, Halifax\, B3L4P1
CATEGORIES:Settlement
END:VEVENT
BEGIN:VEVENT
DTSTART;TZID=America/Halifax:20251210T170000
DTEND;TZID=America/Halifax:20251210T200000
DTSTAMP:20260419T172240
CREATED:20251204T153642Z
LAST-MODIFIED:20251204T153642Z
UID:67108-1765386000-1765396800@isans.ca
SUMMARY:Join the 2SLGBTQIA+ Wellness Group
DESCRIPTION:This group is facilitated by ISANS in collaboration with Rainbow Refugee Association of Nova Scotia (RRANS). \nThis group offers a safe\, inclusive\, and supportive space for 2SLGBTQIA+ newcomers and community members to connect\, share experiences\, and strengthen emotional wellbeing\, and mutual support in welcoming environment. \nFor more information or to participate\, please contact: arodriguez@isans.ca
URL:https://isans.ca/event/join-the-2slgbtqia-wellness-group/2025-12-10/
LOCATION:ISANS Mumford\, 6960 Mumford Road\, Suite 2120\, Halifax\, B3L4P1
CATEGORIES:Settlement
END:VEVENT
BEGIN:VEVENT
DTSTART;TZID=America/Halifax:20251203T170000
DTEND;TZID=America/Halifax:20251203T200000
DTSTAMP:20260419T172240
CREATED:20251204T153642Z
LAST-MODIFIED:20251204T153642Z
UID:67107-1764781200-1764792000@isans.ca
SUMMARY:Join the 2SLGBTQIA+ Wellness Group
DESCRIPTION:This group is facilitated by ISANS in collaboration with Rainbow Refugee Association of Nova Scotia (RRANS). \nThis group offers a safe\, inclusive\, and supportive space for 2SLGBTQIA+ newcomers and community members to connect\, share experiences\, and strengthen emotional wellbeing\, and mutual support in welcoming environment. \nFor more information or to participate\, please contact: arodriguez@isans.ca
URL:https://isans.ca/event/join-the-2slgbtqia-wellness-group/2025-12-03/
LOCATION:ISANS Mumford\, 6960 Mumford Road\, Suite 2120\, Halifax\, B3L4P1
CATEGORIES:Settlement
END:VEVENT
BEGIN:VEVENT
DTSTART;TZID=America/Halifax:20251126T170000
DTEND;TZID=America/Halifax:20251126T200000
DTSTAMP:20260419T172240
CREATED:20251204T153642Z
LAST-MODIFIED:20251204T153642Z
UID:67106-1764176400-1764187200@isans.ca
SUMMARY:Join the 2SLGBTQIA+ Wellness Group
DESCRIPTION:This group is facilitated by ISANS in collaboration with Rainbow Refugee Association of Nova Scotia (RRANS). \nThis group offers a safe\, inclusive\, and supportive space for 2SLGBTQIA+ newcomers and community members to connect\, share experiences\, and strengthen emotional wellbeing\, and mutual support in welcoming environment. \nFor more information or to participate\, please contact: arodriguez@isans.ca
URL:https://isans.ca/event/join-the-2slgbtqia-wellness-group/2025-11-26/
LOCATION:ISANS Mumford\, 6960 Mumford Road\, Suite 2120\, Halifax\, B3L4P1
CATEGORIES:Settlement
END:VEVENT
BEGIN:VEVENT
DTSTART;TZID=America/Halifax:20251119T170000
DTEND;TZID=America/Halifax:20251119T200000
DTSTAMP:20260419T172240
CREATED:20251204T153642Z
LAST-MODIFIED:20251204T195101Z
UID:67079-1763571600-1763582400@isans.ca
SUMMARY:Join the 2SLGBTQIA+ Wellness Group
DESCRIPTION:This group is facilitated by ISANS in collaboration with Rainbow Refugee Association of Nova Scotia (RRANS). \nThis group offers a safe\, inclusive\, and supportive space for 2SLGBTQIA+ newcomers and community members to connect\, share experiences\, and strengthen emotional wellbeing\, and mutual support in welcoming environment. \nFor more information or to participate\, please contact: arodriguez@isans.ca
URL:https://isans.ca/event/join-the-2slgbtqia-wellness-group/2025-11-19/
LOCATION:ISANS Mumford\, 6960 Mumford Road\, Suite 2120\, Halifax\, B3L4P1
CATEGORIES:Settlement
END:VEVENT
END:VCALENDAR