BEGIN:VCALENDAR
VERSION:2.0
PRODID:-//Immigrant Services Association of Nova Scotia - ECPv6.15.17.1//NONSGML v1.0//EN
CALSCALE:GREGORIAN
METHOD:PUBLISH
X-WR-CALNAME:Immigrant Services Association of Nova Scotia
X-ORIGINAL-URL:https://isans.ca
X-WR-CALDESC:Events for Immigrant Services Association of Nova Scotia
REFRESH-INTERVAL;VALUE=DURATION:PT1H
X-Robots-Tag:noindex
X-PUBLISHED-TTL:PT1H
BEGIN:VTIMEZONE
TZID:America/Halifax
BEGIN:DAYLIGHT
TZOFFSETFROM:-0400
TZOFFSETTO:-0300
TZNAME:ADT
DTSTART:20250309T060000
END:DAYLIGHT
BEGIN:STANDARD
TZOFFSETFROM:-0300
TZOFFSETTO:-0400
TZNAME:AST
DTSTART:20251102T050000
END:STANDARD
BEGIN:DAYLIGHT
TZOFFSETFROM:-0400
TZOFFSETTO:-0300
TZNAME:ADT
DTSTART:20260308T060000
END:DAYLIGHT
BEGIN:STANDARD
TZOFFSETFROM:-0300
TZOFFSETTO:-0400
TZNAME:AST
DTSTART:20261101T050000
END:STANDARD
BEGIN:DAYLIGHT
TZOFFSETFROM:-0400
TZOFFSETTO:-0300
TZNAME:ADT
DTSTART:20270314T060000
END:DAYLIGHT
BEGIN:STANDARD
TZOFFSETFROM:-0300
TZOFFSETTO:-0400
TZNAME:AST
DTSTART:20271107T050000
END:STANDARD
END:VTIMEZONE
BEGIN:VEVENT
DTSTART;TZID=America/Halifax:20260311T110000
DTEND;TZID=America/Halifax:20260311T130000
DTSTAMP:20260420T003559
CREATED:20260304T205739Z
LAST-MODIFIED:20260304T210949Z
UID:68655-1773226800-1773234000@isans.ca
SUMMARY:Income Tax Returns- In-Person/Online Information Sessions
DESCRIPTION:Are you new to Canada? The first few times filing your tax returns can be overwhelming. \nJoin us for a free information session to learn about income tax returns and your responsibilities. \nIn this session\, we will learn about: \n\nCanada’s tax system\nWho needs to file tax returns and why\nHow\, where\, and when to file your tax return\nWays to lower your taxes\nWhat to do after you file your tax return\n\nTo participate in this session\, you need to: \n\nBe a registered client of ISANS\nRegister for this session\n\nPlease note that we will not file your taxes at this session. This session is for information purposes only. \nChildcare is available for eligible clients in in-person sessions. If you need childcare\, please let Alex know when you register. \n\nFor more information\, or to register\, please contact Alex Rudcovski\, and specify which session you would like to attend:  \nAlex Rudcovski | arudcovski@isans.ca \n\nSchedule of upcoming sessions: \n\nMonday\, March 9\, from 5:30 to 7:30 pm\, online on Microsoft Teams\nIn English only (no interpretation)\n\n\nWednesday\, March 11\, from 11:00 am to 1:00 pm\, online on Microsoft Teams\nIn English only (no interpretation)\n\n\nMonday\, March 23\, from 5:30 to 7:30 pm\, classroom 18\, ISANS Mumford\nInterpretation in: Tigrinya\n\n\nMonday\, March 23\, from 5:30 to 7:30 pm\, classroom 18\, ISANS Mumford\nInterpretation in: Swahili\n\n\nThursday\, March 26\, from 5:30 to 7:30 pm\, classroom 18\, ISANS Mumford\nInterpretation in: Arabic\n\n\nMonday\, March 30\, from 5:30 to 7:30 pm\, classroom 12\, ISANS Mumford\nInterpretation in: Somali\n\n\nMonday\, March 30\, from 5:30 to 7:30 pm\, classroom 12\, ISANS Mumford\nInterpretation in: Amharic
URL:https://isans.ca/event/income-tax-returns-in-person-online-information-sessions/2026-03-11/
LOCATION:Online or in person
CATEGORIES:Settlement
END:VEVENT
BEGIN:VEVENT
DTSTART;TZID=America/Halifax:20260323T173000
DTEND;TZID=America/Halifax:20260323T193000
DTSTAMP:20260420T003559
CREATED:20260304T205739Z
LAST-MODIFIED:20260304T210951Z
UID:68656-1774287000-1774294200@isans.ca
SUMMARY:Income Tax Returns- In-Person/Online Information Sessions
DESCRIPTION:Are you new to Canada? The first few times filing your tax returns can be overwhelming. \nJoin us for a free information session to learn about income tax returns and your responsibilities. \nIn this session\, we will learn about: \n\nCanada’s tax system\nWho needs to file tax returns and why\nHow\, where\, and when to file your tax return\nWays to lower your taxes\nWhat to do after you file your tax return\n\nTo participate in this session\, you need to: \n\nBe a registered client of ISANS\nRegister for this session\n\nPlease note that we will not file your taxes at this session. This session is for information purposes only. \nChildcare is available for eligible clients in in-person sessions. If you need childcare\, please let Alex know when you register. \n\nFor more information\, or to register\, please contact Alex Rudcovski\, and specify which session you would like to attend:  \nAlex Rudcovski | arudcovski@isans.ca \n\nSchedule of upcoming sessions: \n\nMonday\, March 9\, from 5:30 to 7:30 pm\, online on Microsoft Teams\nIn English only (no interpretation)\n\n\nWednesday\, March 11\, from 11:00 am to 1:00 pm\, online on Microsoft Teams\nIn English only (no interpretation)\n\n\nMonday\, March 23\, from 5:30 to 7:30 pm\, classroom 18\, ISANS Mumford\nInterpretation in: Tigrinya\n\n\nMonday\, March 23\, from 5:30 to 7:30 pm\, classroom 18\, ISANS Mumford\nInterpretation in: Swahili\n\n\nThursday\, March 26\, from 5:30 to 7:30 pm\, classroom 18\, ISANS Mumford\nInterpretation in: Arabic\n\n\nMonday\, March 30\, from 5:30 to 7:30 pm\, classroom 12\, ISANS Mumford\nInterpretation in: Somali\n\n\nMonday\, March 30\, from 5:30 to 7:30 pm\, classroom 12\, ISANS Mumford\nInterpretation in: Amharic
URL:https://isans.ca/event/income-tax-returns-in-person-online-information-sessions/2026-03-23/
LOCATION:Online or in person
CATEGORIES:Settlement
END:VEVENT
BEGIN:VEVENT
DTSTART;TZID=America/Halifax:20260326T173000
DTEND;TZID=America/Halifax:20260326T193000
DTSTAMP:20260420T003559
CREATED:20260304T205739Z
LAST-MODIFIED:20260304T210954Z
UID:68657-1774546200-1774553400@isans.ca
SUMMARY:Income Tax Returns- In-Person/Online Information Sessions
DESCRIPTION:Are you new to Canada? The first few times filing your tax returns can be overwhelming. \nJoin us for a free information session to learn about income tax returns and your responsibilities. \nIn this session\, we will learn about: \n\nCanada’s tax system\nWho needs to file tax returns and why\nHow\, where\, and when to file your tax return\nWays to lower your taxes\nWhat to do after you file your tax return\n\nTo participate in this session\, you need to: \n\nBe a registered client of ISANS\nRegister for this session\n\nPlease note that we will not file your taxes at this session. This session is for information purposes only. \nChildcare is available for eligible clients in in-person sessions. If you need childcare\, please let Alex know when you register. \n\nFor more information\, or to register\, please contact Alex Rudcovski\, and specify which session you would like to attend:  \nAlex Rudcovski | arudcovski@isans.ca \n\nSchedule of upcoming sessions: \n\nMonday\, March 9\, from 5:30 to 7:30 pm\, online on Microsoft Teams\nIn English only (no interpretation)\n\n\nWednesday\, March 11\, from 11:00 am to 1:00 pm\, online on Microsoft Teams\nIn English only (no interpretation)\n\n\nMonday\, March 23\, from 5:30 to 7:30 pm\, classroom 18\, ISANS Mumford\nInterpretation in: Tigrinya\n\n\nMonday\, March 23\, from 5:30 to 7:30 pm\, classroom 18\, ISANS Mumford\nInterpretation in: Swahili\n\n\nThursday\, March 26\, from 5:30 to 7:30 pm\, classroom 18\, ISANS Mumford\nInterpretation in: Arabic\n\n\nMonday\, March 30\, from 5:30 to 7:30 pm\, classroom 12\, ISANS Mumford\nInterpretation in: Somali\n\n\nMonday\, March 30\, from 5:30 to 7:30 pm\, classroom 12\, ISANS Mumford\nInterpretation in: Amharic
URL:https://isans.ca/event/income-tax-returns-in-person-online-information-sessions/2026-03-26/
LOCATION:Online or in person
CATEGORIES:Settlement
END:VEVENT
BEGIN:VEVENT
DTSTART;TZID=America/Halifax:20260330T173000
DTEND;TZID=America/Halifax:20260330T193000
DTSTAMP:20260420T003559
CREATED:20260304T205739Z
LAST-MODIFIED:20260304T210957Z
UID:68658-1774891800-1774899000@isans.ca
SUMMARY:Income Tax Returns- In-Person/Online Information Sessions
DESCRIPTION:Are you new to Canada? The first few times filing your tax returns can be overwhelming. \nJoin us for a free information session to learn about income tax returns and your responsibilities. \nIn this session\, we will learn about: \n\nCanada’s tax system\nWho needs to file tax returns and why\nHow\, where\, and when to file your tax return\nWays to lower your taxes\nWhat to do after you file your tax return\n\nTo participate in this session\, you need to: \n\nBe a registered client of ISANS\nRegister for this session\n\nPlease note that we will not file your taxes at this session. This session is for information purposes only. \nChildcare is available for eligible clients in in-person sessions. If you need childcare\, please let Alex know when you register. \n\nFor more information\, or to register\, please contact Alex Rudcovski\, and specify which session you would like to attend:  \nAlex Rudcovski | arudcovski@isans.ca \n\nSchedule of upcoming sessions: \n\nMonday\, March 9\, from 5:30 to 7:30 pm\, online on Microsoft Teams\nIn English only (no interpretation)\n\n\nWednesday\, March 11\, from 11:00 am to 1:00 pm\, online on Microsoft Teams\nIn English only (no interpretation)\n\n\nMonday\, March 23\, from 5:30 to 7:30 pm\, classroom 18\, ISANS Mumford\nInterpretation in: Tigrinya\n\n\nMonday\, March 23\, from 5:30 to 7:30 pm\, classroom 18\, ISANS Mumford\nInterpretation in: Swahili\n\n\nThursday\, March 26\, from 5:30 to 7:30 pm\, classroom 18\, ISANS Mumford\nInterpretation in: Arabic\n\n\nMonday\, March 30\, from 5:30 to 7:30 pm\, classroom 12\, ISANS Mumford\nInterpretation in: Somali\n\n\nMonday\, March 30\, from 5:30 to 7:30 pm\, classroom 12\, ISANS Mumford\nInterpretation in: Amharic
URL:https://isans.ca/event/income-tax-returns-in-person-online-information-sessions/2026-03-30/
LOCATION:Online or in person
CATEGORIES:Settlement
END:VEVENT
END:VCALENDAR