BEGIN:VCALENDAR
VERSION:2.0
PRODID:-//Immigrant Services Association of Nova Scotia - ECPv6.15.17.1//NONSGML v1.0//EN
CALSCALE:GREGORIAN
METHOD:PUBLISH
X-WR-CALNAME:Immigrant Services Association of Nova Scotia
X-ORIGINAL-URL:https://isans.ca
X-WR-CALDESC:Events for Immigrant Services Association of Nova Scotia
REFRESH-INTERVAL;VALUE=DURATION:PT1H
X-Robots-Tag:noindex
X-PUBLISHED-TTL:PT1H
BEGIN:VTIMEZONE
TZID:America/Halifax
BEGIN:DAYLIGHT
TZOFFSETFROM:-0400
TZOFFSETTO:-0300
TZNAME:ADT
DTSTART:20200308T060000
END:DAYLIGHT
BEGIN:STANDARD
TZOFFSETFROM:-0300
TZOFFSETTO:-0400
TZNAME:AST
DTSTART:20201101T050000
END:STANDARD
BEGIN:DAYLIGHT
TZOFFSETFROM:-0400
TZOFFSETTO:-0300
TZNAME:ADT
DTSTART:20210314T060000
END:DAYLIGHT
BEGIN:STANDARD
TZOFFSETFROM:-0300
TZOFFSETTO:-0400
TZNAME:AST
DTSTART:20211107T050000
END:STANDARD
BEGIN:DAYLIGHT
TZOFFSETFROM:-0400
TZOFFSETTO:-0300
TZNAME:ADT
DTSTART:20220313T060000
END:DAYLIGHT
BEGIN:STANDARD
TZOFFSETFROM:-0300
TZOFFSETTO:-0400
TZNAME:AST
DTSTART:20221106T050000
END:STANDARD
BEGIN:DAYLIGHT
TZOFFSETFROM:-0400
TZOFFSETTO:-0300
TZNAME:ADT
DTSTART:20230312T060000
END:DAYLIGHT
BEGIN:STANDARD
TZOFFSETFROM:-0300
TZOFFSETTO:-0400
TZNAME:AST
DTSTART:20231105T050000
END:STANDARD
BEGIN:DAYLIGHT
TZOFFSETFROM:-0400
TZOFFSETTO:-0300
TZNAME:ADT
DTSTART:20240310T060000
END:DAYLIGHT
BEGIN:STANDARD
TZOFFSETFROM:-0300
TZOFFSETTO:-0400
TZNAME:AST
DTSTART:20241103T050000
END:STANDARD
BEGIN:DAYLIGHT
TZOFFSETFROM:-0400
TZOFFSETTO:-0300
TZNAME:ADT
DTSTART:20250309T060000
END:DAYLIGHT
BEGIN:STANDARD
TZOFFSETFROM:-0300
TZOFFSETTO:-0400
TZNAME:AST
DTSTART:20251102T050000
END:STANDARD
BEGIN:DAYLIGHT
TZOFFSETFROM:-0400
TZOFFSETTO:-0300
TZNAME:ADT
DTSTART:20260308T060000
END:DAYLIGHT
BEGIN:STANDARD
TZOFFSETFROM:-0300
TZOFFSETTO:-0400
TZNAME:AST
DTSTART:20261101T050000
END:STANDARD
END:VTIMEZONE
BEGIN:VEVENT
DTSTART;TZID=America/Halifax:20251003T131500
DTEND;TZID=America/Halifax:20251003T151500
DTSTAMP:20260421T234152
CREATED:20250903T162349Z
LAST-MODIFIED:20251027T170610Z
UID:65322-1759497300-1759504500@isans.ca
SUMMARY:On-site Computer Training
DESCRIPTION:Would you like to improve your computer skills? You can register for the following computer courses: \n\nMs. Word\nOct 3-Oct 10\, 6 classes\, 2 hours\nEveryday\, 1:15 PM –3:15 PM \nOutlook I\nOct 14-Oct 15\, 2 classes\, 2 hours\nTuesday\, Wednesday\, 1:15 PM –3:15 PM \nOutlook II\nOct 16-Oct 17\, 2 classes\, 2 hours\nThursday\, Friday\, 1:15 PM –3:15 PM \nExcel 1\nOct 20-Oct 31\, 6 classes\, 2 hours\nMonday\, Wednesday\, Friday\, 1:15 PM –3:15 PM \nKeyboarding\nOct 21-Oct 30\, 2 classes\, 2 hours\nTuesday\, Thursday\, 10 AM–12 PM \nPowerPoint\nNov 5-Nov 10\, 4 classes\, 2 hours\nEveryday\, 10 AM–12 PM \nBasic Computer\nNov 12-Nov 18\, 5 classes\, 2 hours\nEveryday\, 1:15 PM –3:15 PM \nExcel II\nNov 19-Nov 27\, 6 classes\, 2 hours\nEveryday\, 1:15 PM–3:15 PM \nLinkedIn\nDec 2-Dec 3\, 2 classes\, 2 hours\nTuesday\, Wednesday\, 10 AM–12 PM \n\nFor more information\, please contact:\nBasam Tahoor | 902-406-4089 | computerskills@isans.ca
URL:https://isans.ca/event/on-site-computer-training/2025-10-03/
LOCATION:ISANS Mumford\, 6960 Mumford Road\, Suite 2120\, Halifax\, B3L4P1
CATEGORIES:Employment
END:VEVENT
BEGIN:VEVENT
DTSTART;TZID=America/Halifax:20250925T130000
DTEND;TZID=America/Halifax:20250925T160000
DTSTAMP:20260421T234152
CREATED:20250923T151104Z
LAST-MODIFIED:20251113T200036Z
UID:65767-1758805200-1758816000@isans.ca
SUMMARY:Job Search Resource Centre Workshops
DESCRIPTION:Build your career skills and take the next step toward success! \nUpcoming Workshops:  \n\nSeptember 2025\n\nLinkedIn Profile Building and Optimization – September 25\, 2025\n\n\nOctober 2025\n\nJob Fair Preparation – October 2\, 2025\nResume Writing and Cover Letter Writing – October 9\, 2025\nNetworking Strategies & the Hidden Job Market – October 23\, 2025\n\n\nNovember 2025\n\nResume Writing and Cover Letter Writing – November 6\, 2025\nInterview Preparation and Best Practices – November 20\, 2025\n\n\nDecember 2025\n\nResume Writing and Cover Letter Writing – December 4\, 2025\n\n\nEligibility:\n\nBe an ISANS client.\nHave a Canadian Language Benchmark (CLB) level of 4+\n\n\n\nFor more information and register\, please contact:\nRanjit Singh | 902-482-4373 | rsingh@isans.ca
URL:https://isans.ca/event/job-search-resource-centre-2/2025-09-25/
LOCATION:ISANS Desmond\, 7071 Bayers Road\, Suite 164 (Desmond Avenue entrance)
CATEGORIES:Employment
GEO:44.6558793;-63.6258569
X-APPLE-STRUCTURED-LOCATION;VALUE=URI;X-ADDRESS=ISANS Desmond 7071 Bayers Road Suite 164 (Desmond Avenue entrance);X-APPLE-RADIUS=500;X-TITLE=7071 Bayers Road\, Suite 164 (Desmond Avenue entrance):geo:-63.6258569,44.6558793
END:VEVENT
BEGIN:VEVENT
DTSTART;TZID=America/Halifax:20211125T111516
DTEND;TZID=America/Halifax:20211125T111516
DTSTAMP:20260421T234152
CREATED:20200915T152450Z
LAST-MODIFIED:20200915T152450Z
UID:44010-1637838916-1637838916@isans.ca
SUMMARY:Computer Training: Microsoft Excel II
DESCRIPTION:In this course\, after a quick review of Excel I\, you will use Microsoft Office Excel 2016 to learn how to: \n\nCreate formulas using basic Excel functions and operations\nApply format as tables\nUse “Subtotal” from the “Data Tab\,” from the function formula\, or after applying the format to the data as a table\nApply conditional formatting\nCreate and manage names\, and use them in formulas\nAdd/delete/edit data-validating restrictions\, and add messages and error alerts\nCreate and customize charts\n\nYou will also learn how to use the following Excel functions: \n\nROUND\, ROUNDUP\, ROUNDDOWN\, FLOOR\, CEILING\, and TRUNC\nPRODUCT\, IF\, AND\, OR\, SUMIF\, COUNTIF\, and how to use nested functions in Excel\n\nFor more information\, and to register\, please contact: \ncomputerskills@isans.ca  |  902-406-3068
URL:https://isans.ca/event/computer-training-microsoft-excel-ii/
CATEGORIES:Employment
END:VEVENT
END:VCALENDAR